BEGIN:VCALENDAR
VERSION:2.0
PRODID:-//nostatic - ECPv6.15.19//NONSGML v1.0//EN
CALSCALE:GREGORIAN
METHOD:PUBLISH
X-ORIGINAL-URL:https://nostatic.com
X-WR-CALDESC:Events for nostatic
REFRESH-INTERVAL;VALUE=DURATION:PT1H
X-Robots-Tag:noindex
X-PUBLISHED-TTL:PT1H
BEGIN:VTIMEZONE
TZID:America/Los_Angeles
BEGIN:DAYLIGHT
TZOFFSETFROM:-0800
TZOFFSETTO:-0700
TZNAME:PDT
DTSTART:20250309T100000
END:DAYLIGHT
BEGIN:STANDARD
TZOFFSETFROM:-0700
TZOFFSETTO:-0800
TZNAME:PST
DTSTART:20251102T090000
END:STANDARD
BEGIN:DAYLIGHT
TZOFFSETFROM:-0800
TZOFFSETTO:-0700
TZNAME:PDT
DTSTART:20260308T100000
END:DAYLIGHT
BEGIN:STANDARD
TZOFFSETFROM:-0700
TZOFFSETTO:-0800
TZNAME:PST
DTSTART:20261101T090000
END:STANDARD
BEGIN:DAYLIGHT
TZOFFSETFROM:-0800
TZOFFSETTO:-0700
TZNAME:PDT
DTSTART:20270314T100000
END:DAYLIGHT
BEGIN:STANDARD
TZOFFSETFROM:-0700
TZOFFSETTO:-0800
TZNAME:PST
DTSTART:20271107T090000
END:STANDARD
END:VTIMEZONE
BEGIN:VEVENT
DTSTART;TZID=America/Los_Angeles:20260530T183000
DTEND;TZID=America/Los_Angeles:20260530T193000
DTSTAMP:20260422T145119
CREATED:20260418T162442Z
LAST-MODIFIED:20260418T162442Z
UID:6016-1780165800-1780169400@nostatic.com
SUMMARY:Niki Sandoval @ private event
DESCRIPTION:Santa Ynez
URL:https://nostatic.com/event/niki-sandoval-private-event-2/
END:VEVENT
BEGIN:VEVENT
DTSTART;TZID=America/Los_Angeles:20260531T130000
DTEND;TZID=America/Los_Angeles:20260531T160000
DTSTAMP:20260422T145119
CREATED:20260320T170045Z
LAST-MODIFIED:20260320T170045Z
UID:5957-1780232400-1780243200@nostatic.com
SUMMARY:Futuristix @ Crooked Path
DESCRIPTION:Los Olivos
URL:https://nostatic.com/event/futuristix-crooked-path/
END:VEVENT
BEGIN:VEVENT
DTSTART;TZID=America/Los_Angeles:20260607T100000
DTEND;TZID=America/Los_Angeles:20260607T120000
DTSTAMP:20260422T145119
CREATED:20260301T223803Z
LAST-MODIFIED:20260301T223803Z
UID:5938-1780826400-1780833600@nostatic.com
SUMMARY:todd solo @ Hwy 1 Farmers Market
DESCRIPTION:Vandenberg Village
URL:https://nostatic.com/event/todd-solo-hwy-1-farmers-market/
END:VEVENT
BEGIN:VEVENT
DTSTART;TZID=America/Los_Angeles:20260619T170000
DTEND;TZID=America/Los_Angeles:20260619T200000
DTSTAMP:20260422T145119
CREATED:20260329T191237Z
LAST-MODIFIED:20260329T191237Z
UID:5970-1781888400-1781899200@nostatic.com
SUMMARY:Soul Cats @ Carhartt Wines
DESCRIPTION:Los Olivos
URL:https://nostatic.com/event/soul-cats-carhartt-wines-2/
END:VEVENT
BEGIN:VEVENT
DTSTART;TZID=America/Los_Angeles:20260621T100000
DTEND;TZID=America/Los_Angeles:20260621T120000
DTSTAMP:20260422T145119
CREATED:20260301T223837Z
LAST-MODIFIED:20260301T223837Z
UID:5940-1782036000-1782043200@nostatic.com
SUMMARY:todd solo @ Hwy 1 Farmers Market
DESCRIPTION:Vandenberg Village
URL:https://nostatic.com/event/todd-solo-hwy-1-farmers-market-2/
END:VEVENT
BEGIN:VEVENT
DTSTART;TZID=America/Los_Angeles:20260705T100000
DTEND;TZID=America/Los_Angeles:20260705T120000
DTSTAMP:20260422T145119
CREATED:20260328T185935Z
LAST-MODIFIED:20260328T185935Z
UID:5966-1783245600-1783252800@nostatic.com
SUMMARY:todd solo @ Hwy 1 Farmers Market
DESCRIPTION:Vandenberg Village
URL:https://nostatic.com/event/todd-solo-hwy-1-farmers-market-3/
END:VEVENT
BEGIN:VEVENT
DTSTART;TZID=America/Los_Angeles:20260719T100000
DTEND;TZID=America/Los_Angeles:20260719T120000
DTSTAMP:20260422T145119
CREATED:20260328T190011Z
LAST-MODIFIED:20260328T190011Z
UID:5968-1784455200-1784462400@nostatic.com
SUMMARY:todd solo @ Hwy 1 Farmers Market
DESCRIPTION:Vandenberg Village
URL:https://nostatic.com/event/todd-solo-hwy-1-farmers-market-4/
END:VEVENT
BEGIN:VEVENT
DTSTART;TZID=America/Los_Angeles:20260802T100000
DTEND;TZID=America/Los_Angeles:20260802T120000
DTSTAMP:20260422T145119
CREATED:20260421T055010Z
LAST-MODIFIED:20260421T055010Z
UID:6047-1785664800-1785672000@nostatic.com
SUMMARY:todd solo @ Hwy 1 Farmers Market
DESCRIPTION:Vandenberg Village
URL:https://nostatic.com/event/todd-solo-hwy-1-farmers-market-5/
END:VEVENT
BEGIN:VEVENT
DTSTART;TZID=America/Los_Angeles:20260816T100000
DTEND;TZID=America/Los_Angeles:20260816T120000
DTSTAMP:20260422T145119
CREATED:20260421T055108Z
LAST-MODIFIED:20260421T055108Z
UID:6049-1786874400-1786881600@nostatic.com
SUMMARY:todd solo @ Hwy 1 Farmers Market
DESCRIPTION:Vandenberg Village
URL:https://nostatic.com/event/todd-solo-hwy-1-farmers-market-6/
END:VEVENT
BEGIN:VEVENT
DTSTART;TZID=America/Los_Angeles:20260918T170000
DTEND;TZID=America/Los_Angeles:20260918T200000
DTSTAMP:20260422T145119
CREATED:20260329T191316Z
LAST-MODIFIED:20260329T191541Z
UID:5972-1789750800-1789761600@nostatic.com
SUMMARY:Soul Cats @ Carhartt Wines
DESCRIPTION:Los Olivos
URL:https://nostatic.com/event/soul-cats-carhartt-winery/
END:VEVENT
BEGIN:VEVENT
DTSTART;TZID=America/Los_Angeles:20261211T170000
DTEND;TZID=America/Los_Angeles:20261211T200000
DTSTAMP:20260422T145119
CREATED:20260329T191400Z
LAST-MODIFIED:20260329T191533Z
UID:5974-1797008400-1797019200@nostatic.com
SUMMARY:Soul Cats @ Carhartt Wines
DESCRIPTION:Los Olivos
URL:https://nostatic.com/event/soul-cats-carhartt-winery-2/
END:VEVENT
END:VCALENDAR