BEGIN:VCALENDAR
VERSION:2.0
PRODID:-//nostatic - ECPv6.15.19//NONSGML v1.0//EN
CALSCALE:GREGORIAN
METHOD:PUBLISH
X-WR-CALNAME:nostatic
X-ORIGINAL-URL:https://nostatic.com
X-WR-CALDESC:Events for nostatic
REFRESH-INTERVAL;VALUE=DURATION:PT1H
X-Robots-Tag:noindex
X-PUBLISHED-TTL:PT1H
BEGIN:VTIMEZONE
TZID:America/Los_Angeles
BEGIN:DAYLIGHT
TZOFFSETFROM:-0800
TZOFFSETTO:-0700
TZNAME:PDT
DTSTART:20160313T100000
END:DAYLIGHT
BEGIN:STANDARD
TZOFFSETFROM:-0700
TZOFFSETTO:-0800
TZNAME:PST
DTSTART:20161106T090000
END:STANDARD
BEGIN:DAYLIGHT
TZOFFSETFROM:-0800
TZOFFSETTO:-0700
TZNAME:PDT
DTSTART:20170312T100000
END:DAYLIGHT
BEGIN:STANDARD
TZOFFSETFROM:-0700
TZOFFSETTO:-0800
TZNAME:PST
DTSTART:20171105T090000
END:STANDARD
BEGIN:DAYLIGHT
TZOFFSETFROM:-0800
TZOFFSETTO:-0700
TZNAME:PDT
DTSTART:20180311T100000
END:DAYLIGHT
BEGIN:STANDARD
TZOFFSETFROM:-0700
TZOFFSETTO:-0800
TZNAME:PST
DTSTART:20181104T090000
END:STANDARD
BEGIN:DAYLIGHT
TZOFFSETFROM:-0800
TZOFFSETTO:-0700
TZNAME:PDT
DTSTART:20190310T100000
END:DAYLIGHT
BEGIN:STANDARD
TZOFFSETFROM:-0700
TZOFFSETTO:-0800
TZNAME:PST
DTSTART:20191103T090000
END:STANDARD
END:VTIMEZONE
BEGIN:VEVENT
DTSTART;TZID=America/Los_Angeles:20180408T090000
DTEND;TZID=America/Los_Angeles:20180408T130000
DTSTAMP:20260421T122204
CREATED:20180312T181713Z
LAST-MODIFIED:20180312T181713Z
UID:1591-1523178000-1523192400@nostatic.com
SUMMARY:nostatic @ Santa Monica Farmer's Market
DESCRIPTION:
URL:https://nostatic.com/event/nostatic-santa-monica-farmers-market-5/
LOCATION:Santa Monica Farmers Market\, Main and Ocean Park\, Santa Monica\, CA\, United States
END:VEVENT
BEGIN:VEVENT
DTSTART;TZID=America/Los_Angeles:20180320T200000
DTEND;TZID=America/Los_Angeles:20180320T210000
DTSTAMP:20260421T122204
CREATED:20180212T043320Z
LAST-MODIFIED:20180212T043320Z
UID:1584-1521576000-1521579600@nostatic.com
SUMMARY:nostatic @ TRiP
DESCRIPTION:
URL:https://nostatic.com/event/nostatic-trip-29/
LOCATION:TRiP\, 2102 Lincoln Bl\, Santa Monica\, CA\, United States
END:VEVENT
BEGIN:VEVENT
DTSTART;TZID=America/Los_Angeles:20180318T103000
DTEND;TZID=America/Los_Angeles:20180318T133000
DTSTAMP:20260421T122204
CREATED:20180212T043548Z
LAST-MODIFIED:20180212T043548Z
UID:1588-1521369000-1521379800@nostatic.com
SUMMARY:nostatic @ west LA Farmers Market
DESCRIPTION:
URL:https://nostatic.com/event/nostatic-west-la-farmers-market-16/
LOCATION:West LA Farmer’s Market\, 11420 Santa Monica Bl\, Los Angeles\, 90025\, United States
END:VEVENT
BEGIN:VEVENT
DTSTART;TZID=America/Los_Angeles:20180304T103000
DTEND;TZID=America/Los_Angeles:20180304T133000
DTSTAMP:20260421T122204
CREATED:20180212T043500Z
LAST-MODIFIED:20180212T043500Z
UID:1586-1520159400-1520170200@nostatic.com
SUMMARY:Kizambo @ west LA Farmers Market
DESCRIPTION:
URL:https://nostatic.com/event/kizambo-west-la-farmers-market-2/
LOCATION:West LA Farmer’s Market\, 11420 Santa Monica Bl\, Los Angeles\, 90025\, United States
END:VEVENT
BEGIN:VEVENT
DTSTART;TZID=America/Los_Angeles:20180211T103000
DTEND;TZID=America/Los_Angeles:20180211T133000
DTSTAMP:20260421T122204
CREATED:20180119T041057Z
LAST-MODIFIED:20180119T041057Z
UID:1572-1518345000-1518355800@nostatic.com
SUMMARY:nostatic duo w/Jory Schulman @ west LA Farmer's Market
DESCRIPTION:
URL:https://nostatic.com/event/nostatic-duo-w-jory-schulman-west-la-farmers-market/
LOCATION:West LA Farmer’s Market\, 11420 Santa Monica Bl\, Los Angeles\, 90025\, United States
END:VEVENT
BEGIN:VEVENT
DTSTART;TZID=America/Los_Angeles:20180206T193000
DTEND;TZID=America/Los_Angeles:20180206T220000
DTSTAMP:20260421T122204
CREATED:20180127T173338Z
LAST-MODIFIED:20180127T173338Z
UID:1578-1517945400-1517954400@nostatic.com
SUMMARY:west LA jazz meetup @ westchester
DESCRIPTION:
URL:https://nostatic.com/event/west-la-jazz-meetup-westchester-3/
LOCATION:Holy Nativity Episcopal Church\, 6700 West 83rd\, Westchester\, CA\, United States
END:VEVENT
BEGIN:VEVENT
DTSTART;TZID=America/Los_Angeles:20180203T200000
DTEND;TZID=America/Los_Angeles:20180203T233000
DTSTAMP:20260421T122204
CREATED:20180119T041007Z
LAST-MODIFIED:20180119T041007Z
UID:1570-1517688000-1517700600@nostatic.com
SUMMARY:Steely Jam @ Santa Monica Moose Lodge
DESCRIPTION:
URL:https://nostatic.com/event/steely-jam-santa-monica-moose-lodge-5/
LOCATION:Santa Monica Moose Lodge\, 1600 Ocean Park Blvd\, santa monica\, CA\, 90405\, United States
END:VEVENT
BEGIN:VEVENT
DTSTART;TZID=America/Los_Angeles:20180131T203000
DTEND;TZID=America/Los_Angeles:20180131T220000
DTSTAMP:20260421T122204
CREATED:20171226T022020Z
LAST-MODIFIED:20171226T022020Z
UID:1542-1517430600-1517436000@nostatic.com
SUMMARY:nostatic @ TRiP
DESCRIPTION:
URL:https://nostatic.com/event/nostatic-trip-28/
LOCATION:TRiP\, 2102 Lincoln Bl\, Santa Monica\, CA\, United States
END:VEVENT
BEGIN:VEVENT
DTSTART;TZID=America/Los_Angeles:20180126T193000
DTEND;TZID=America/Los_Angeles:20180126T220000
DTSTAMP:20260421T122204
CREATED:20171226T022102Z
LAST-MODIFIED:20171226T022102Z
UID:1544-1516995000-1517004000@nostatic.com
SUMMARY:RJQ @ Del Rey Yacht Club
DESCRIPTION:
URL:https://nostatic.com/event/rjq-del-rey-yacht-club-2/
LOCATION:Del Rey Yacht Club\, Palwan dr\, Marina del Rey\, CA\, United States
END:VEVENT
BEGIN:VEVENT
DTSTART;TZID=America/Los_Angeles:20180121T103000
DTEND;TZID=America/Los_Angeles:20180121T130000
DTSTAMP:20260421T122204
CREATED:20171226T022143Z
LAST-MODIFIED:20180119T040919Z
UID:1546-1516530600-1516539600@nostatic.com
SUMMARY:sawtelle Brazilian @ west LA farmers market
DESCRIPTION:
URL:https://nostatic.com/event/nostatic-west-la-farmers-market-15/
LOCATION:West LA Farmer’s Market\, 11420 Santa Monica Bl\, Los Angeles\, 90025\, United States
END:VEVENT
BEGIN:VEVENT
DTSTART;TZID=America/Los_Angeles:20180116T200000
DTEND;TZID=America/Los_Angeles:20180116T210000
DTSTAMP:20260421T122204
CREATED:20171023T233949Z
LAST-MODIFIED:20171108T181306Z
UID:1511-1516132800-1516136400@nostatic.com
SUMMARY:nostatic @ TRiP
DESCRIPTION:
URL:https://nostatic.com/event/nostatic-trip-27/
LOCATION:TRiP\, 2102 Lincoln Bl\, Santa Monica\, CA\, United States
END:VEVENT
BEGIN:VEVENT
DTSTART;TZID=America/Los_Angeles:20171231T210000
DTEND;TZID=America/Los_Angeles:20171231T233000
DTSTAMP:20260421T122204
CREATED:20171203T233125Z
LAST-MODIFIED:20171203T233125Z
UID:1533-1514754000-1514763000@nostatic.com
SUMMARY:Steely Jam @ Santa Monica Moose Lodge
DESCRIPTION:
URL:https://nostatic.com/event/steely-jam-santa-monica-moose-lodge-4/
LOCATION:Santa Monica Moose Lodge\, 1600 Ocean Park Blvd\, santa monica\, CA\, 90405\, United States
END:VEVENT
BEGIN:VEVENT
DTSTART;TZID=America/Los_Angeles:20171213T190000
DTEND;TZID=America/Los_Angeles:20171213T220000
DTSTAMP:20260421T122204
CREATED:20171009T020424Z
LAST-MODIFIED:20171212T225020Z
UID:1497-1513191600-1513202400@nostatic.com
SUMMARY:True Crime LA Greatest Hits
DESCRIPTION:
URL:https://nostatic.com/event/true-crime-greatest-hits/
LOCATION:Three  Clubs\, 1123 Vine St\, Los Angeles\, CA\, 90038\, United States
END:VEVENT
BEGIN:VEVENT
DTSTART;TZID=America/Los_Angeles:20171126T103000
DTEND;TZID=America/Los_Angeles:20171126T133000
DTSTAMP:20260421T122204
CREATED:20171009T020752Z
LAST-MODIFIED:20171110T184102Z
UID:1501-1511692200-1511703000@nostatic.com
SUMMARY:nostatic @ west LA Farmers Market
DESCRIPTION:
URL:https://nostatic.com/event/nostatic-west-la-farmers-market-14/
LOCATION:West LA Farmer’s Market\, 11420 Santa Monica Bl\, Los Angeles\, 90025\, United States
END:VEVENT
BEGIN:VEVENT
DTSTART;TZID=America/Los_Angeles:20171121T200000
DTEND;TZID=America/Los_Angeles:20171121T210000
DTSTAMP:20260421T122204
CREATED:20171020T223857Z
LAST-MODIFIED:20171020T223857Z
UID:1506-1511294400-1511298000@nostatic.com
SUMMARY:nostatic @ TRiP
DESCRIPTION:
URL:https://nostatic.com/event/nostatic-trip-26/
LOCATION:TRiP\, 2102 Lincoln Bl\, Santa Monica\, CA\, United States
END:VEVENT
BEGIN:VEVENT
DTSTART;TZID=America/Los_Angeles:20171111T200000
DTEND;TZID=America/Los_Angeles:20171111T230000
DTSTAMP:20260421T122204
CREATED:20170817T225144Z
LAST-MODIFIED:20170817T225144Z
UID:1458-1510430400-1510441200@nostatic.com
SUMMARY:Steely Jam @ Santa Monica Moose Lodge
DESCRIPTION:
URL:https://nostatic.com/event/steely-jam-santa-monica-moose-lodge-3/
LOCATION:Santa Monica Moose Lodge\, 1600 Ocean Park Blvd\, santa monica\, CA\, 90405\, United States
END:VEVENT
BEGIN:VEVENT
DTSTART;TZID=America/Los_Angeles:20171111T150000
DTEND;TZID=America/Los_Angeles:20171111T170000
DTSTAMP:20260421T122204
CREATED:20171023T233807Z
LAST-MODIFIED:20171023T233807Z
UID:1509-1510412400-1510419600@nostatic.com
SUMMARY:nostatic @ wedding @ San Diego
DESCRIPTION:
URL:https://nostatic.com/event/nostatic-wedding-san-diego/
LOCATION:CA
END:VEVENT
BEGIN:VEVENT
DTSTART;TZID=America/Los_Angeles:20171104T193000
DTEND;TZID=America/Los_Angeles:20171104T220000
DTSTAMP:20260421T122204
CREATED:20171009T020656Z
LAST-MODIFIED:20171009T020656Z
UID:1499-1509823800-1509832800@nostatic.com
SUMMARY:Steve Davis Quartet @ west Adams
DESCRIPTION:
URL:https://nostatic.com/event/steve-davis-quartet-west-adams/
LOCATION:CA
END:VEVENT
BEGIN:VEVENT
DTSTART;TZID=America/Los_Angeles:20171022T103000
DTEND;TZID=America/Los_Angeles:20171022T133000
DTSTAMP:20260421T122204
CREATED:20170918T153316Z
LAST-MODIFIED:20171020T223754Z
UID:1486-1508668200-1508679000@nostatic.com
SUMMARY:perilous relish @ west LA Farmer's Market
DESCRIPTION:
URL:https://nostatic.com/event/nostatic-west-la-farmers-market-13/
LOCATION:West LA Farmer’s Market\, 11420 Santa Monica Bl\, Los Angeles\, 90025\, United States
END:VEVENT
BEGIN:VEVENT
DTSTART;TZID=America/Los_Angeles:20171017T200000
DTEND;TZID=America/Los_Angeles:20171017T210000
DTSTAMP:20260421T122204
CREATED:20171009T020336Z
LAST-MODIFIED:20171009T020336Z
UID:1495-1508270400-1508274000@nostatic.com
SUMMARY:nostatic @ TRiP
DESCRIPTION:
URL:https://nostatic.com/event/nostatic-trip-25/
LOCATION:TRiP\, 2102 Lincoln Bl\, Santa Monica\, CA\, United States
END:VEVENT
BEGIN:VEVENT
DTSTART;TZID=America/Los_Angeles:20171015T103000
DTEND;TZID=America/Los_Angeles:20171015T133000
DTSTAMP:20260421T122204
CREATED:20170918T153243Z
LAST-MODIFIED:20170918T153243Z
UID:1484-1508063400-1508074200@nostatic.com
SUMMARY:Kizambo @ west LA Farmer's Market
DESCRIPTION:
URL:https://nostatic.com/event/kizambo-west-la-farmers-market/
LOCATION:West LA Farmer’s Market\, 11420 Santa Monica Bl\, Los Angeles\, 90025\, United States
END:VEVENT
BEGIN:VEVENT
DTSTART;TZID=America/Los_Angeles:20171010T193000
DTEND;TZID=America/Los_Angeles:20171010T220000
DTSTAMP:20260421T122204
CREATED:20171009T020252Z
LAST-MODIFIED:20171009T020300Z
UID:1492-1507663800-1507672800@nostatic.com
SUMMARY:west LA jazz meetup @ Westchester
DESCRIPTION:
URL:https://nostatic.com/event/west-la-jazz-meetup-12/
LOCATION:Holy Nativity Episcopal Church\, 6700 West 83rd\, Westchester\, CA\, United States
END:VEVENT
BEGIN:VEVENT
DTSTART;TZID=America/Los_Angeles:20170924T100000
DTEND;TZID=America/Los_Angeles:20170924T130000
DTSTAMP:20260421T122204
CREATED:20161226T191430Z
LAST-MODIFIED:20161226T191430Z
UID:1023-1506247200-1506258000@nostatic.com
SUMMARY:nostatic @ Santa Monica Farmers Market
DESCRIPTION:
URL:https://nostatic.com/event/nostatic-santa-monica-farmers-market-4/
LOCATION:Santa Monica Farmers Market\, Main and Ocean Park\, Santa Monica\, CA\, United States
END:VEVENT
BEGIN:VEVENT
DTSTART;TZID=America/Los_Angeles:20170919T200000
DTEND;TZID=America/Los_Angeles:20170919T210000
DTSTAMP:20260421T122204
CREATED:20170817T225004Z
LAST-MODIFIED:20170918T153150Z
UID:1454-1505851200-1505854800@nostatic.com
SUMMARY:nostatic @ TRiP
DESCRIPTION:
URL:https://nostatic.com/event/blue-noise-kitchen-trip-23/
LOCATION:TRiP\, 2102 Lincoln Bl\, Santa Monica\, CA\, United States
ATTACH;FMTTYPE=image/jpeg:https://nostatic.com/wp-content/uploads/2017/08/19sep17-trip.jpg
END:VEVENT
BEGIN:VEVENT
DTSTART;TZID=America/Los_Angeles:20170917T103000
DTEND;TZID=America/Los_Angeles:20170917T133000
DTSTAMP:20260421T122204
CREATED:20170901T183543Z
LAST-MODIFIED:20170901T183543Z
UID:1473-1505644200-1505655000@nostatic.com
SUMMARY:nostatic @ west LA Farmers Market
DESCRIPTION:
URL:https://nostatic.com/event/nostatic-west-la-farmers-market-12/
LOCATION:West LA Farmer’s Market\, 11420 Santa Monica Bl\, Los Angeles\, 90025\, United States
END:VEVENT
BEGIN:VEVENT
DTSTART;TZID=America/Los_Angeles:20170910T120000
DTEND;TZID=America/Los_Angeles:20170910T170000
DTSTAMP:20260421T122204
CREATED:20170817T224923Z
LAST-MODIFIED:20170817T224923Z
UID:1452-1505044800-1505062800@nostatic.com
SUMMARY:Kizambo @ Brazil Day Festival\, San Diego
DESCRIPTION:
URL:https://nostatic.com/event/kizambo-brazil-day-festival-san-diego/
LOCATION:CA
END:VEVENT
BEGIN:VEVENT
DTSTART;TZID=America/Los_Angeles:20170829T193000
DTEND;TZID=America/Los_Angeles:20170829T220000
DTSTAMP:20260421T122204
CREATED:20170817T225050Z
LAST-MODIFIED:20170817T225050Z
UID:1456-1504035000-1504044000@nostatic.com
SUMMARY:west LA Jazz Meetup
DESCRIPTION:
URL:https://nostatic.com/event/west-la-jazz-meetup-11/
LOCATION:Holy Nativity Episcopal Church\, 6700 West 83rd\, Westchester\, CA\, United States
END:VEVENT
BEGIN:VEVENT
DTSTART;TZID=America/Los_Angeles:20170827T103000
DTEND;TZID=America/Los_Angeles:20170827T133000
DTSTAMP:20260421T122204
CREATED:20170715T031331Z
LAST-MODIFIED:20170715T031331Z
UID:1402-1503829800-1503840600@nostatic.com
SUMMARY:nostatic @ west LA Farmers Market
DESCRIPTION:
URL:https://nostatic.com/event/nostatic-west-la-farmers-market-11/
LOCATION:West LA Farmer’s Market\, 11420 Santa Monica Bl\, Los Angeles\, 90025\, United States
END:VEVENT
BEGIN:VEVENT
DTSTART;TZID=America/Los_Angeles:20170815T200000
DTEND;TZID=America/Los_Angeles:20170815T210000
DTSTAMP:20260421T122204
CREATED:20170703T060410Z
LAST-MODIFIED:20170703T060410Z
UID:1357-1502827200-1502830800@nostatic.com
SUMMARY:Blue Noise Kitchen @ TRiP
DESCRIPTION:
URL:https://nostatic.com/event/blue-noise-kitchen-trip-22/
LOCATION:TRiP\, 2102 Lincoln Bl\, Santa Monica\, CA\, United States
END:VEVENT
BEGIN:VEVENT
DTSTART;TZID=America/Los_Angeles:20170812T130000
DTEND;TZID=America/Los_Angeles:20170812T170000
DTSTAMP:20260421T122204
CREATED:20170715T031400Z
LAST-MODIFIED:20170715T031400Z
UID:1404-1502542800-1502557200@nostatic.com
SUMMARY:nostatic @ private party
DESCRIPTION:
URL:https://nostatic.com/event/nostatic-private-party-2/
LOCATION:CA
END:VEVENT
END:VCALENDAR