BEGIN:VCALENDAR
VERSION:2.0
PRODID:-//nostatic - ECPv6.15.19//NONSGML v1.0//EN
CALSCALE:GREGORIAN
METHOD:PUBLISH
X-WR-CALNAME:nostatic
X-ORIGINAL-URL:https://nostatic.com
X-WR-CALDESC:Events for nostatic
REFRESH-INTERVAL;VALUE=DURATION:PT1H
X-Robots-Tag:noindex
X-PUBLISHED-TTL:PT1H
BEGIN:VTIMEZONE
TZID:America/Los_Angeles
BEGIN:DAYLIGHT
TZOFFSETFROM:-0800
TZOFFSETTO:-0700
TZNAME:PDT
DTSTART:20150308T100000
END:DAYLIGHT
BEGIN:STANDARD
TZOFFSETFROM:-0700
TZOFFSETTO:-0800
TZNAME:PST
DTSTART:20151101T090000
END:STANDARD
BEGIN:DAYLIGHT
TZOFFSETFROM:-0800
TZOFFSETTO:-0700
TZNAME:PDT
DTSTART:20160313T100000
END:DAYLIGHT
BEGIN:STANDARD
TZOFFSETFROM:-0700
TZOFFSETTO:-0800
TZNAME:PST
DTSTART:20161106T090000
END:STANDARD
BEGIN:DAYLIGHT
TZOFFSETFROM:-0800
TZOFFSETTO:-0700
TZNAME:PDT
DTSTART:20170312T100000
END:DAYLIGHT
BEGIN:STANDARD
TZOFFSETFROM:-0700
TZOFFSETTO:-0800
TZNAME:PST
DTSTART:20171105T090000
END:STANDARD
BEGIN:DAYLIGHT
TZOFFSETFROM:-0800
TZOFFSETTO:-0700
TZNAME:PDT
DTSTART:20180311T100000
END:DAYLIGHT
BEGIN:STANDARD
TZOFFSETFROM:-0700
TZOFFSETTO:-0800
TZNAME:PST
DTSTART:20181104T090000
END:STANDARD
END:VTIMEZONE
BEGIN:VEVENT
DTSTART;TZID=America/Los_Angeles:20170221T200000
DTEND;TZID=America/Los_Angeles:20170221T210000
DTSTAMP:20260421T165201
CREATED:20170120T214508Z
LAST-MODIFIED:20170120T214508Z
UID:1045-1487707200-1487710800@nostatic.com
SUMMARY:Blue Noise Kitchen @ TRiP
DESCRIPTION:
URL:https://nostatic.com/event/blue-noise-kitchen-trip-17/
LOCATION:TRiP\, 2102 Lincoln Bl\, Santa Monica\, CA\, United States
END:VEVENT
BEGIN:VEVENT
DTSTART;TZID=America/Los_Angeles:20170211T190000
DTEND;TZID=America/Los_Angeles:20170211T220000
DTSTAMP:20260421T165201
CREATED:20161226T191735Z
LAST-MODIFIED:20161226T191735Z
UID:1031-1486839600-1486850400@nostatic.com
SUMMARY:LA True Crime
DESCRIPTION:
URL:https://nostatic.com/event/la-true-crime/
LOCATION:Three  Clubs\, 1123 Vine St\, Los Angeles\, CA\, 90038\, United States
END:VEVENT
BEGIN:VEVENT
DTSTART;TZID=America/Los_Angeles:20170208T203000
DTEND;TZID=America/Los_Angeles:20170208T220000
DTSTAMP:20260421T165201
CREATED:20161230T161214Z
LAST-MODIFIED:20161230T161214Z
UID:1034-1486585800-1486591200@nostatic.com
SUMMARY:nostatic @ TRiP
DESCRIPTION:
URL:https://nostatic.com/event/nostatic-trip-24/
LOCATION:TRiP\, 2102 Lincoln Bl\, Santa Monica\, CA\, United States
END:VEVENT
BEGIN:VEVENT
DTSTART;TZID=America/Los_Angeles:20170124T200000
DTEND;TZID=America/Los_Angeles:20170124T210000
DTSTAMP:20260421T165201
CREATED:20161226T191654Z
LAST-MODIFIED:20161226T191654Z
UID:1029-1485288000-1485291600@nostatic.com
SUMMARY:Blue Noise Kitchen @ TRiP
DESCRIPTION:
URL:https://nostatic.com/event/blue-noise-kitchen-trip-16/
LOCATION:TRiP\, 2102 Lincoln Bl\, Santa Monica\, CA\, United States
END:VEVENT
BEGIN:VEVENT
DTSTART;TZID=America/Los_Angeles:20170121T180000
DTEND;TZID=America/Los_Angeles:20170121T220000
DTSTAMP:20260421T165201
CREATED:20161226T191505Z
LAST-MODIFIED:20170120T214106Z
UID:1025-1485021600-1485036000@nostatic.com
SUMMARY:nostatic @ Butcherbird Studios opening
DESCRIPTION:
URL:https://nostatic.com/event/nostatic-west-la-farmers-market-4/
LOCATION:CA
END:VEVENT
BEGIN:VEVENT
DTSTART;TZID=America/Los_Angeles:20170119T210000
DTEND;TZID=America/Los_Angeles:20170119T220000
DTSTAMP:20260421T165201
CREATED:20161226T191540Z
LAST-MODIFIED:20170112T042519Z
UID:1027-1484859600-1484863200@nostatic.com
SUMMARY:nostatic @ TRiP
DESCRIPTION:
URL:https://nostatic.com/event/nostatic-trip-23/
LOCATION:TRiP\, 2102 Lincoln Bl\, Santa Monica\, CA\, United States
ATTACH;FMTTYPE=image/jpeg:https://nostatic.com/wp-content/uploads/2016/12/19jan17-trip.jpg
END:VEVENT
BEGIN:VEVENT
DTSTART;TZID=America/Los_Angeles:20161220T200000
DTEND;TZID=America/Los_Angeles:20161220T210000
DTSTAMP:20260421T165201
CREATED:20161221T003114Z
LAST-MODIFIED:20161221T003114Z
UID:1018-1482264000-1482267600@nostatic.com
SUMMARY:Blue Noise Kitchen @ TRiP
DESCRIPTION:
URL:https://nostatic.com/event/blue-noise-kitchen-trip-15/
LOCATION:TRiP\, 2102 Lincoln Bl\, Santa Monica\, CA\, United States
END:VEVENT
BEGIN:VEVENT
DTSTART;TZID=America/Los_Angeles:20161218T200000
DTEND;TZID=America/Los_Angeles:20161218T230000
DTSTAMP:20260421T165201
CREATED:20161219T183625Z
LAST-MODIFIED:20161219T183625Z
UID:1014-1482091200-1482102000@nostatic.com
SUMMARY:POG @ private party
DESCRIPTION:
URL:https://nostatic.com/event/pog-private-party/
LOCATION:CA
END:VEVENT
BEGIN:VEVENT
DTSTART;TZID=America/Los_Angeles:20161211T103000
DTEND;TZID=America/Los_Angeles:20161211T133000
DTSTAMP:20260421T165201
CREATED:20161203T185835Z
LAST-MODIFIED:20161203T185835Z
UID:1004-1481452200-1481463000@nostatic.com
SUMMARY:nostatic @ west LA farmers market
DESCRIPTION:
URL:https://nostatic.com/event/nostatic-west-la-farmers-market-3/
LOCATION:West LA Farmer’s Market\, 11420 Santa Monica Bl\, Los Angeles\, 90025\, United States
END:VEVENT
BEGIN:VEVENT
DTSTART;TZID=America/Los_Angeles:20161206T193000
DTEND;TZID=America/Los_Angeles:20161206T220000
DTSTAMP:20260421T165201
CREATED:20161116T005838Z
LAST-MODIFIED:20161116T005838Z
UID:991-1481052600-1481061600@nostatic.com
SUMMARY:west LA jazz meetup
DESCRIPTION:
URL:https://nostatic.com/event/west-la-jazz-meetup-6/
LOCATION:Holy Nativity Episcopal Church\, 6700 West 83rd\, Westchester\, CA\, United States
END:VEVENT
BEGIN:VEVENT
DTSTART;TZID=America/Los_Angeles:20161203T180000
DTEND;TZID=America/Los_Angeles:20161203T220000
DTSTAMP:20260421T165201
CREATED:20161116T010100Z
LAST-MODIFIED:20161116T010100Z
UID:998-1480788000-1480802400@nostatic.com
SUMMARY:RJQ @ private party
DESCRIPTION:
URL:https://nostatic.com/event/rjq-private-party-2/
LOCATION:private party
END:VEVENT
BEGIN:VEVENT
DTSTART;TZID=America/Los_Angeles:20161202T200000
DTEND;TZID=America/Los_Angeles:20161202T230000
DTSTAMP:20260421T165201
CREATED:20161116T010025Z
LAST-MODIFIED:20161116T010025Z
UID:995-1480708800-1480719600@nostatic.com
SUMMARY:Rock the Mic @ Hard Rock Hollywood
DESCRIPTION:
URL:https://nostatic.com/event/rock-the-mic-hard-rock-hollywood/
LOCATION:Hard Rock Cafe\, Hollywood & Highland\, Los Angeles\, CA\, United States
END:VEVENT
BEGIN:VEVENT
DTSTART;TZID=America/Los_Angeles:20161129T200000
DTEND;TZID=America/Los_Angeles:20161129T210000
DTSTAMP:20260421T165201
CREATED:20161116T005911Z
LAST-MODIFIED:20161116T005911Z
UID:993-1480449600-1480453200@nostatic.com
SUMMARY:Blue Noise Kitchen @ TRiP
DESCRIPTION:
URL:https://nostatic.com/event/blue-noise-kitchen-trip-14/
LOCATION:TRiP\, 2102 Lincoln Bl\, Santa Monica\, CA\, United States
END:VEVENT
BEGIN:VEVENT
DTSTART;TZID=America/Los_Angeles:20161113T100000
DTEND;TZID=America/Los_Angeles:20161113T130000
DTSTAMP:20260421T165201
CREATED:20161017T161417Z
LAST-MODIFIED:20161017T161500Z
UID:975-1479031200-1479042000@nostatic.com
SUMMARY:nostatic @ west LA farmers market
DESCRIPTION:
URL:https://nostatic.com/event/nostatic-west-la-farmers-market-2/
LOCATION:West LA Farmer’s Market\, 11420 Santa Monica Bl\, Los Angeles\, 90025\, United States
END:VEVENT
BEGIN:VEVENT
DTSTART;TZID=America/Los_Angeles:20161112T200000
DTEND;TZID=America/Los_Angeles:20161112T230000
DTSTAMP:20260421T165201
CREATED:20161017T161443Z
LAST-MODIFIED:20161017T161443Z
UID:977-1478980800-1478991600@nostatic.com
SUMMARY:rock the mic @ 3 Clubs
DESCRIPTION:
URL:https://nostatic.com/event/rock-the-mic-3-clubs/
LOCATION:Three  Clubs\, 1123 Vine St\, Los Angeles\, CA\, 90038\, United States
END:VEVENT
BEGIN:VEVENT
DTSTART;TZID=America/Los_Angeles:20161106T200000
DTEND;TZID=America/Los_Angeles:20161106T210000
DTSTAMP:20260421T165201
CREATED:20161026T010150Z
LAST-MODIFIED:20161026T010150Z
UID:984-1478462400-1478466000@nostatic.com
SUMMARY:nostatic @ TRiP
DESCRIPTION:A rare Sun evening set
URL:https://nostatic.com/event/nostatic-trip-22/
LOCATION:TRiP\, 2102 Lincoln Bl\, Santa Monica\, CA\, United States
ATTACH;FMTTYPE=image/jpeg:https://nostatic.com/wp-content/uploads/2016/10/6nov16.jpg
END:VEVENT
BEGIN:VEVENT
DTSTART;TZID=America/Los_Angeles:20161101T193000
DTEND;TZID=America/Los_Angeles:20161101T220000
DTSTAMP:20260421T165201
CREATED:20161017T161640Z
LAST-MODIFIED:20161017T161640Z
UID:981-1478028600-1478037600@nostatic.com
SUMMARY:west LA jazz meetup
DESCRIPTION:
URL:https://nostatic.com/event/west-la-jazz-meetup-5/
LOCATION:Holy Nativity Episcopal Church\, 6700 West 83rd\, Westchester\, CA\, United States
END:VEVENT
BEGIN:VEVENT
DTSTART;TZID=America/Los_Angeles:20161029T210000
DTEND;TZID=America/Los_Angeles:20161029T233000
DTSTAMP:20260421T165201
CREATED:20160821T005914Z
LAST-MODIFIED:20161026T010301Z
UID:945-1477774800-1477783800@nostatic.com
SUMMARY:Steely Jam @ Typhoon
DESCRIPTION:special halloween show
URL:https://nostatic.com/event/steely-jam-typhoon-7/
LOCATION:Typhoon\, 3221 Donald Douglas Loop\, Santa monica\, CA\, United States
ATTACH;FMTTYPE=image/jpeg:https://nostatic.com/wp-content/uploads/2016/08/sj_typhoon_29oct16.jpg
END:VEVENT
BEGIN:VEVENT
DTSTART;TZID=America/Los_Angeles:20161018T200000
DTEND;TZID=America/Los_Angeles:20161018T210000
DTSTAMP:20260421T165201
CREATED:20161017T161534Z
LAST-MODIFIED:20161017T161534Z
UID:979-1476820800-1476824400@nostatic.com
SUMMARY:Blue Noise Kitchen @ TRiP
DESCRIPTION:
URL:https://nostatic.com/event/blue-noise-kitchen-trip-13/
LOCATION:TRiP\, 2102 Lincoln Bl\, Santa Monica\, CA\, United States
END:VEVENT
BEGIN:VEVENT
DTSTART;TZID=America/Los_Angeles:20161016T100000
DTEND;TZID=America/Los_Angeles:20161016T140000
DTSTAMP:20260421T165201
CREATED:20160920T165634Z
LAST-MODIFIED:20160920T165634Z
UID:965-1476612000-1476626400@nostatic.com
SUMMARY:nostatic @ West LA Farmers Market
DESCRIPTION:
URL:https://nostatic.com/event/nostatic-west-la-farmers-market/
LOCATION:West LA Farmer’s Market\, 11420 Santa Monica Bl\, Los Angeles\, 90025\, United States
END:VEVENT
BEGIN:VEVENT
DTSTART;TZID=America/Los_Angeles:20161015T200000
DTEND;TZID=America/Los_Angeles:20161015T230000
DTSTAMP:20260421T165201
CREATED:20160915T155039Z
LAST-MODIFIED:20160915T155039Z
UID:960-1476561600-1476572400@nostatic.com
SUMMARY:private party
DESCRIPTION:
URL:https://nostatic.com/event/private-party/
LOCATION:CA
END:VEVENT
BEGIN:VEVENT
DTSTART;TZID=America/Los_Angeles:20161012T203000
DTEND;TZID=America/Los_Angeles:20161012T220000
DTSTAMP:20260421T165201
CREATED:20160915T155014Z
LAST-MODIFIED:20160915T155014Z
UID:958-1476304200-1476309600@nostatic.com
SUMMARY:nostatic @ TRiP
DESCRIPTION:
URL:https://nostatic.com/event/nostatic-trip-21/
LOCATION:TRiP\, 2102 Lincoln Bl\, Santa Monica\, CA\, United States
END:VEVENT
BEGIN:VEVENT
DTSTART;TZID=America/Los_Angeles:20161011T193000
DTEND;TZID=America/Los_Angeles:20161011T220000
DTSTAMP:20260421T165201
CREATED:20160920T165817Z
LAST-MODIFIED:20160920T165817Z
UID:969-1476214200-1476223200@nostatic.com
SUMMARY:west LA jazz meetup
DESCRIPTION:
URL:https://nostatic.com/event/west-la-jazz-meetup-4/
LOCATION:Holy Nativity Episcopal Church\, 6700 West 83rd\, Westchester\, CA\, United States
END:VEVENT
BEGIN:VEVENT
DTSTART;TZID=America/Los_Angeles:20161008T100000
DTEND;TZID=America/Los_Angeles:20161008T170000
DTSTAMP:20260421T165201
CREATED:20160920T165701Z
LAST-MODIFIED:20160920T165701Z
UID:967-1475920800-1475946000@nostatic.com
SUMMARY:blue noise kitchen @ studio
DESCRIPTION:
URL:https://nostatic.com/event/blue-noise-kitchen-studio/
LOCATION:CA
END:VEVENT
BEGIN:VEVENT
DTSTART;TZID=America/Los_Angeles:20161001T190000
DTEND;TZID=America/Los_Angeles:20161001T230000
DTSTAMP:20260421T165201
CREATED:20160918T040246Z
LAST-MODIFIED:20160918T040246Z
UID:963-1475348400-1475362800@nostatic.com
SUMMARY:Rock the Mic @ private party
DESCRIPTION:
URL:https://nostatic.com/event/rock-the-mic-private-party/
LOCATION:CA
END:VEVENT
BEGIN:VEVENT
DTSTART;TZID=America/Los_Angeles:20160925T113000
DTEND;TZID=America/Los_Angeles:20160925T150000
DTSTAMP:20260421T165201
CREATED:20160915T154912Z
LAST-MODIFIED:20160915T154912Z
UID:956-1474803000-1474815600@nostatic.com
SUMMARY:RJQ @ Windjammer Yacht Club
DESCRIPTION:
URL:https://nostatic.com/event/rjq-windjammer-yacht-club/
LOCATION:CA
END:VEVENT
BEGIN:VEVENT
DTSTART;TZID=America/Los_Angeles:20160920T200000
DTEND;TZID=America/Los_Angeles:20160920T210000
DTSTAMP:20260421T165201
CREATED:20160821T005833Z
LAST-MODIFIED:20160821T005833Z
UID:943-1474401600-1474405200@nostatic.com
SUMMARY:Blue Noise Kitchen @ TRiP
DESCRIPTION:
URL:https://nostatic.com/event/blue-noise-kitchen-trip-12/
LOCATION:TRiP\, 2102 Lincoln Bl\, Santa Monica\, CA\, United States
END:VEVENT
BEGIN:VEVENT
DTSTART;TZID=America/Los_Angeles:20160917T140000
DTEND;TZID=America/Los_Angeles:20160917T170000
DTSTAMP:20260421T165201
CREATED:20160915T154750Z
LAST-MODIFIED:20160915T154750Z
UID:954-1474120800-1474131600@nostatic.com
SUMMARY:Steve Davis Quintet @ Wellington Square
DESCRIPTION:
URL:https://nostatic.com/event/steve-davis-quintet-wellington-square/
LOCATION:CA
END:VEVENT
BEGIN:VEVENT
DTSTART;TZID=America/Los_Angeles:20160914T203000
DTEND;TZID=America/Los_Angeles:20160914T220000
DTSTAMP:20260421T165201
CREATED:20160821T005803Z
LAST-MODIFIED:20160821T005803Z
UID:941-1473885000-1473890400@nostatic.com
SUMMARY:nostatic @ TRiP
DESCRIPTION:
URL:https://nostatic.com/event/nostatic-trip-20/
LOCATION:TRiP\, 2102 Lincoln Bl\, Santa Monica\, CA\, United States
END:VEVENT
BEGIN:VEVENT
DTSTART;TZID=America/Los_Angeles:20160913T070000
DTEND;TZID=America/Los_Angeles:20160913T210000
DTSTAMP:20260421T165201
CREATED:20160821T005723Z
LAST-MODIFIED:20160821T005732Z
UID:936-1473750000-1473800400@nostatic.com
SUMMARY:nostatic @ SIGDIAL reception
DESCRIPTION:
URL:https://nostatic.com/event/sigdial-reception/
LOCATION:USC ICT\, 12015 Waterfront Dr\, Playa Vista\, CA\, 90094\, United States
END:VEVENT
END:VCALENDAR