BEGIN:VCALENDAR
VERSION:2.0
PRODID:-//nostatic - ECPv6.15.19//NONSGML v1.0//EN
CALSCALE:GREGORIAN
METHOD:PUBLISH
X-WR-CALNAME:nostatic
X-ORIGINAL-URL:https://nostatic.com
X-WR-CALDESC:Events for nostatic
REFRESH-INTERVAL;VALUE=DURATION:PT1H
X-Robots-Tag:noindex
X-PUBLISHED-TTL:PT1H
BEGIN:VTIMEZONE
TZID:America/Los_Angeles
BEGIN:DAYLIGHT
TZOFFSETFROM:-0800
TZOFFSETTO:-0700
TZNAME:PDT
DTSTART:20150308T100000
END:DAYLIGHT
BEGIN:STANDARD
TZOFFSETFROM:-0700
TZOFFSETTO:-0800
TZNAME:PST
DTSTART:20151101T090000
END:STANDARD
BEGIN:DAYLIGHT
TZOFFSETFROM:-0800
TZOFFSETTO:-0700
TZNAME:PDT
DTSTART:20160313T100000
END:DAYLIGHT
BEGIN:STANDARD
TZOFFSETFROM:-0700
TZOFFSETTO:-0800
TZNAME:PST
DTSTART:20161106T090000
END:STANDARD
BEGIN:DAYLIGHT
TZOFFSETFROM:-0800
TZOFFSETTO:-0700
TZNAME:PDT
DTSTART:20170312T100000
END:DAYLIGHT
BEGIN:STANDARD
TZOFFSETFROM:-0700
TZOFFSETTO:-0800
TZNAME:PST
DTSTART:20171105T090000
END:STANDARD
END:VTIMEZONE
BEGIN:VEVENT
DTSTART;TZID=America/Los_Angeles:20160621T200000
DTEND;TZID=America/Los_Angeles:20160621T210000
DTSTAMP:20260421T214306
CREATED:20160512T215839Z
LAST-MODIFIED:20160512T215839Z
UID:855-1466539200-1466542800@nostatic.com
SUMMARY:Blue Noise Kitchen @ TRiP
DESCRIPTION:
URL:https://nostatic.com/event/blue-noise-kitchen-trip-9/
LOCATION:TRiP\, 2102 Lincoln Bl\, Santa Monica\, CA\, United States
END:VEVENT
BEGIN:VEVENT
DTSTART;TZID=America/Los_Angeles:20160617T193000
DTEND;TZID=America/Los_Angeles:20160617T223000
DTSTAMP:20260421T214306
CREATED:20160512T215759Z
LAST-MODIFIED:20160512T215759Z
UID:854-1466191800-1466202600@nostatic.com
SUMMARY:RCJQ @ Del Rey Yacht Club
DESCRIPTION:
URL:https://nostatic.com/event/rcjq-del-rey-yacht-club-2/
LOCATION:Del Rey Yacht Club\, Palwan dr\, Marina del Rey\, CA\, United States
END:VEVENT
BEGIN:VEVENT
DTSTART;TZID=America/Los_Angeles:20160616T190000
DTEND;TZID=America/Los_Angeles:20160616T213000
DTSTAMP:20260421T214306
CREATED:20160512T215726Z
LAST-MODIFIED:20160512T215726Z
UID:853-1466103600-1466112600@nostatic.com
SUMMARY:RCJQ @ Panini Grill
DESCRIPTION:
URL:https://nostatic.com/event/rcjq-panini-grill-5/
LOCATION:Panini Grill\, 4251 Glencoe Ave\, Marina del Rey\, CA\, United States
END:VEVENT
BEGIN:VEVENT
DTSTART;TZID=America/Los_Angeles:20160611T200000
DTEND;TZID=America/Los_Angeles:20160611T230000
DTSTAMP:20260421T214306
CREATED:20160512T215529Z
LAST-MODIFIED:20160512T215529Z
UID:851-1465675200-1465686000@nostatic.com
SUMMARY:Tate Simms
DESCRIPTION:
URL:https://nostatic.com/event/tate-simms/
LOCATION:CA
END:VEVENT
BEGIN:VEVENT
DTSTART;TZID=America/Los_Angeles:20160608T203000
DTEND;TZID=America/Los_Angeles:20160608T220000
DTSTAMP:20260421T214306
CREATED:20160512T215629Z
LAST-MODIFIED:20160512T215629Z
UID:852-1465417800-1465423200@nostatic.com
SUMMARY:nostatic @ TRiP
DESCRIPTION:
URL:https://nostatic.com/event/nostatic-trip-18/
LOCATION:TRiP\, 2102 Lincoln Bl\, Santa Monica\, CA\, United States
END:VEVENT
BEGIN:VEVENT
DTSTART;TZID=America/Los_Angeles:20160607T193000
DTEND;TZID=America/Los_Angeles:20160607T220000
DTSTAMP:20260421T214306
CREATED:20160512T215504Z
LAST-MODIFIED:20160512T215504Z
UID:850-1465327800-1465336800@nostatic.com
SUMMARY:west la jazz players meet up
DESCRIPTION:
URL:https://nostatic.com/event/west-la-jazz-players-meet-up-2/
LOCATION:Holy Nativity Episcopal Church\, 6700 West 83rd\, Westchester\, CA\, United States
END:VEVENT
BEGIN:VEVENT
DTSTART;TZID=America/Los_Angeles:20160604T210000
DTEND;TZID=America/Los_Angeles:20160604T230000
DTSTAMP:20260421T214306
CREATED:20160512T215421Z
LAST-MODIFIED:20160512T215421Z
UID:849-1465074000-1465081200@nostatic.com
SUMMARY:Steely Jam @ Typhoon
DESCRIPTION:
URL:https://nostatic.com/event/steely-jam-typhoon-6/
LOCATION:Typhoon\, 3221 Donald Douglas Loop\, Santa monica\, CA\, United States
END:VEVENT
BEGIN:VEVENT
DTSTART;TZID=America/Los_Angeles:20160525T033000
DTEND;TZID=America/Los_Angeles:20160525T170000
DTSTAMP:20260421T214306
CREATED:20160512T215349Z
LAST-MODIFIED:20160512T215349Z
UID:848-1464147000-1464195600@nostatic.com
SUMMARY:todd @ Acer Education Conference
DESCRIPTION:
URL:https://nostatic.com/event/todd-acer-education-conference/
LOCATION:CA
END:VEVENT
BEGIN:VEVENT
DTSTART;TZID=America/Los_Angeles:20160520T190000
DTEND;TZID=America/Los_Angeles:20160520T213000
DTSTAMP:20260421T214306
CREATED:20160512T215315Z
LAST-MODIFIED:20160512T215315Z
UID:847-1463770800-1463779800@nostatic.com
SUMMARY:RCJQ @ Panini Grill
DESCRIPTION:
URL:https://nostatic.com/event/rcjq-panini-grill-4/
LOCATION:Panini Grill\, 4251 Glencoe Ave\, Marina del Rey\, CA\, United States
END:VEVENT
BEGIN:VEVENT
DTSTART;TZID=America/Los_Angeles:20160517T200000
DTEND;TZID=America/Los_Angeles:20160517T210000
DTSTAMP:20260421T214306
CREATED:20160424T025225Z
LAST-MODIFIED:20160424T025225Z
UID:843-1463515200-1463518800@nostatic.com
SUMMARY:Blue Noise Kitchen
DESCRIPTION:
URL:https://nostatic.com/event/blue-noise-kitchen/
LOCATION:TRiP\, 2102 Lincoln Bl\, Santa Monica\, CA\, United States
END:VEVENT
BEGIN:VEVENT
DTSTART;TZID=America/Los_Angeles:20160511T203000
DTEND;TZID=America/Los_Angeles:20160511T220000
DTSTAMP:20260421T214306
CREATED:20160424T025158Z
LAST-MODIFIED:20160510T154144Z
UID:842-1462998600-1463004000@nostatic.com
SUMMARY:nostatic @ TRiP
DESCRIPTION:
URL:https://nostatic.com/event/nostatic-trip-17/
LOCATION:TRiP\, 2102 Lincoln Bl\, Santa Monica\, CA\, United States
ATTACH;FMTTYPE=image/jpeg:https://nostatic.com/wp-content/uploads/2016/04/11may16-trip_v2.jpg
END:VEVENT
BEGIN:VEVENT
DTSTART;TZID=America/Los_Angeles:20160507T210000
DTEND;TZID=America/Los_Angeles:20160507T230000
DTSTAMP:20260421T214306
CREATED:20160424T025122Z
LAST-MODIFIED:20160424T025122Z
UID:839-1462654800-1462662000@nostatic.com
SUMMARY:Steely Jam @ Typhoon
DESCRIPTION:
URL:https://nostatic.com/event/steely-jam-typhoon-5/
LOCATION:Typhoon\, 3221 Donald Douglas Loop\, Santa monica\, CA\, United States
ATTACH;FMTTYPE=image/jpeg:https://nostatic.com/wp-content/uploads/2016/04/sj_7may16.jpg
END:VEVENT
BEGIN:VEVENT
DTSTART;TZID=America/Los_Angeles:20160428T190000
DTEND;TZID=America/Los_Angeles:20160428T210000
DTSTAMP:20260421T214306
CREATED:20160311T002556Z
LAST-MODIFIED:20160311T002556Z
UID:825-1461870000-1461877200@nostatic.com
SUMMARY:roberto cordero quartet @ Panini
DESCRIPTION:
URL:https://nostatic.com/event/roberto-cordero-quartet-panini-12/
LOCATION:Panini Grill\, 4251 Glencoe Ave\, Marina del Rey\, CA\, United States
END:VEVENT
BEGIN:VEVENT
DTSTART;TZID=America/Los_Angeles:20160426T193000
DTEND;TZID=America/Los_Angeles:20160426T220000
DTSTAMP:20260421T214306
CREATED:20160311T002522Z
LAST-MODIFIED:20160311T002522Z
UID:824-1461699000-1461708000@nostatic.com
SUMMARY:west LA jazz meetup
DESCRIPTION:
URL:https://nostatic.com/event/west-la-jazz-meetup/
LOCATION:Holy Nativity Episcopal Church\, 6700 West 83rd\, Westchester\, CA\, United States
END:VEVENT
BEGIN:VEVENT
DTSTART;TZID=America/Los_Angeles:20160419T200000
DTEND;TZID=America/Los_Angeles:20160419T210000
DTSTAMP:20260421T214306
CREATED:20160311T002444Z
LAST-MODIFIED:20160405T163951Z
UID:823-1461096000-1461099600@nostatic.com
SUMMARY:blue noise kitchen @ TRiP
DESCRIPTION:
URL:https://nostatic.com/event/blue-noise-kitchen-trip-8/
LOCATION:TRiP\, 2102 Lincoln Bl\, Santa Monica\, CA\, United States
ATTACH;FMTTYPE=image/jpeg:https://nostatic.com/wp-content/uploads/2016/03/bnk_19apr16_800.jpg
END:VEVENT
BEGIN:VEVENT
DTSTART;TZID=America/Los_Angeles:20160413T203000
DTEND;TZID=America/Los_Angeles:20160413T220000
DTSTAMP:20260421T214306
CREATED:20160311T002409Z
LAST-MODIFIED:20160405T163922Z
UID:822-1460579400-1460584800@nostatic.com
SUMMARY:nostatic @ TRiP
DESCRIPTION:
URL:https://nostatic.com/event/nostatic-trip-16/
LOCATION:TRiP\, 2102 Lincoln Bl\, Santa Monica\, CA\, United States
ATTACH;FMTTYPE=image/jpeg:https://nostatic.com/wp-content/uploads/2016/03/13apr16_800.jpg
END:VEVENT
BEGIN:VEVENT
DTSTART;TZID=America/Los_Angeles:20160409T093000
DTEND;TZID=America/Los_Angeles:20160409T103000
DTSTAMP:20260421T214306
CREATED:20160311T002341Z
LAST-MODIFIED:20160311T002341Z
UID:821-1460194200-1460197800@nostatic.com
SUMMARY:todd @ singularity
DESCRIPTION:
URL:https://nostatic.com/event/todd-singularity/
LOCATION:CA
END:VEVENT
BEGIN:VEVENT
DTSTART;TZID=America/Los_Angeles:20160405T193000
DTEND;TZID=America/Los_Angeles:20160405T220000
DTSTAMP:20260421T214306
CREATED:20160311T002307Z
LAST-MODIFIED:20160311T002307Z
UID:820-1459884600-1459893600@nostatic.com
SUMMARY:west LA jazz meetup @ westchester
DESCRIPTION:
URL:https://nostatic.com/event/west-la-jazz-meetup-westchester/
LOCATION:Holy Nativity Episcopal Church\, 6700 West 83rd\, Westchester\, CA\, United States
END:VEVENT
BEGIN:VEVENT
DTSTART;TZID=America/Los_Angeles:20160331T190000
DTEND;TZID=America/Los_Angeles:20160331T213000
DTSTAMP:20260421T214306
CREATED:20160218T222201Z
LAST-MODIFIED:20160218T222201Z
UID:813-1459450800-1459459800@nostatic.com
SUMMARY:RCJQ @ Panini Grill
DESCRIPTION:
URL:https://nostatic.com/event/rcjq-panini-grill-3/
LOCATION:Panini Grill\, 4251 Glencoe Ave\, Marina del Rey\, CA\, United States
END:VEVENT
BEGIN:VEVENT
DTSTART;TZID=America/Los_Angeles:20160327T110000
DTEND;TZID=America/Los_Angeles:20160327T133000
DTSTAMP:20260421T214306
CREATED:20160323T040017Z
LAST-MODIFIED:20160323T040017Z
UID:829-1459076400-1459085400@nostatic.com
SUMMARY:Hiroo Nakano Trio @ West LA Farmer's Market
DESCRIPTION:
URL:https://nostatic.com/event/hiroo-nakano-trio-west-la-farmers-market/
LOCATION:West LA Farmer’s Market\, 11420 Santa Monica Bl\, Los Angeles\, 90025\, United States
END:VEVENT
BEGIN:VEVENT
DTSTART;TZID=America/Los_Angeles:20160317T170000
DTEND;TZID=America/Los_Angeles:20160317T190000
DTSTAMP:20260421T214306
CREATED:20160311T002018Z
LAST-MODIFIED:20160311T002018Z
UID:818-1458234000-1458241200@nostatic.com
SUMMARY:nostatic @ 3 Clubs
DESCRIPTION:
URL:https://nostatic.com/event/nostatic-3-clubs/
LOCATION:Three  Clubs\, 1123 Vine St\, Los Angeles\, CA\, 90038\, United States
END:VEVENT
BEGIN:VEVENT
DTSTART;TZID=America/Los_Angeles:20160315T200000
DTEND;TZID=America/Los_Angeles:20160315T210000
DTSTAMP:20260421T214306
CREATED:20160126T002624Z
LAST-MODIFIED:20160126T002624Z
UID:797-1458072000-1458075600@nostatic.com
SUMMARY:blue noise kitchen @ TRiP
DESCRIPTION:
URL:https://nostatic.com/event/blue-noise-kitchen-trip-7/
LOCATION:TRiP\, 2102 Lincoln Bl\, Santa Monica\, CA\, United States
END:VEVENT
BEGIN:VEVENT
DTSTART;TZID=America/Los_Angeles:20160312T130000
DTEND;TZID=America/Los_Angeles:20160312T150000
DTSTAMP:20260421T214306
CREATED:20160204T174223Z
LAST-MODIFIED:20160204T174223Z
UID:806-1457787600-1457794800@nostatic.com
SUMMARY:todd @ SxSW
DESCRIPTION:digital health
URL:https://nostatic.com/event/todd-sxsw/
LOCATION:SxSW\, Austin\, TX\, United States
END:VEVENT
BEGIN:VEVENT
DTSTART;TZID=America/Los_Angeles:20160310T190000
DTEND;TZID=America/Los_Angeles:20160310T213000
DTSTAMP:20260421T214306
CREATED:20160204T175015Z
LAST-MODIFIED:20160218T222131Z
UID:808-1457636400-1457645400@nostatic.com
SUMMARY:RCJQ @ Panini Grill
DESCRIPTION:
URL:https://nostatic.com/event/rcjq-panini-grill-2/
LOCATION:Panini Grill\, 4251 Glencoe Ave\, Marina del Rey\, CA\, United States
END:VEVENT
BEGIN:VEVENT
DTSTART;TZID=America/Los_Angeles:20160309T203000
DTEND;TZID=America/Los_Angeles:20160309T220000
DTSTAMP:20260421T214306
CREATED:20160126T002555Z
LAST-MODIFIED:20160126T002555Z
UID:796-1457555400-1457560800@nostatic.com
SUMMARY:nostatic @ TRiP
DESCRIPTION:
URL:https://nostatic.com/event/nostatic-trip-15/
LOCATION:TRiP\, 2102 Lincoln Bl\, Santa Monica\, CA\, United States
END:VEVENT
BEGIN:VEVENT
DTSTART;TZID=America/Los_Angeles:20160305T170000
DTEND;TZID=America/Los_Angeles:20160305T210000
DTSTAMP:20260421T214306
CREATED:20160204T174333Z
LAST-MODIFIED:20160204T174341Z
UID:807-1457197200-1457211600@nostatic.com
SUMMARY:RCJQ @ St. Anastasia Ball
DESCRIPTION:
URL:https://nostatic.com/event/st-anastasia-ball/
LOCATION:LAX Marriott\, Los Angeles\, CA\, United States
END:VEVENT
BEGIN:VEVENT
DTSTART;TZID=America/Los_Angeles:20160223T193000
DTEND;TZID=America/Los_Angeles:20160223T220000
DTSTAMP:20260421T214306
CREATED:20160126T002415Z
LAST-MODIFIED:20160126T002415Z
UID:795-1456255800-1456264800@nostatic.com
SUMMARY:west LA jazz players meet up
DESCRIPTION:
URL:https://nostatic.com/event/west-la-jazz-players-meet-up/
LOCATION:Holy Nativity Episcopal Church\, 6700 West 83rd\, Westchester\, CA\, United States
END:VEVENT
BEGIN:VEVENT
DTSTART;TZID=America/Los_Angeles:20160221T180000
DTEND;TZID=America/Los_Angeles:20160221T210000
DTSTAMP:20260421T214306
CREATED:20160218T222048Z
LAST-MODIFIED:20160218T222048Z
UID:812-1456077600-1456088400@nostatic.com
SUMMARY:Roberto Cordero Quartet @ Del Rey Yacht Club
DESCRIPTION:
URL:https://nostatic.com/event/roberto-cordero-quartet-del-rey-yacht-club/
LOCATION:Del Rey Yacht Club\, Palwan dr\, Marina del Rey\, CA\, United States
END:VEVENT
BEGIN:VEVENT
DTSTART;TZID=America/Los_Angeles:20160220T210000
DTEND;TZID=America/Los_Angeles:20160220T233000
DTSTAMP:20260421T214306
CREATED:20160204T173842Z
LAST-MODIFIED:20160204T173842Z
UID:805-1456002000-1456011000@nostatic.com
SUMMARY:steely jam @ Typhoon
DESCRIPTION:
URL:https://nostatic.com/event/steely-jam-typhoon-4/
LOCATION:Typhoon\, 3221 Donald Douglas Loop\, Santa monica\, CA\, United States
END:VEVENT
BEGIN:VEVENT
DTSTART;TZID=America/Los_Angeles:20160216T200000
DTEND;TZID=America/Los_Angeles:20160216T210000
DTSTAMP:20260421T214306
CREATED:20160117T025237Z
LAST-MODIFIED:20160117T025237Z
UID:782-1455652800-1455656400@nostatic.com
SUMMARY:blue noise kitchen @ TRiP
DESCRIPTION:
URL:https://nostatic.com/event/blue-noise-kitchen-trip-6/
LOCATION:TRiP\, 2102 Lincoln Bl\, Santa Monica\, CA\, United States
END:VEVENT
END:VCALENDAR