BEGIN:VCALENDAR
VERSION:2.0
PRODID:-//nostatic - ECPv6.15.19//NONSGML v1.0//EN
CALSCALE:GREGORIAN
METHOD:PUBLISH
X-WR-CALNAME:nostatic
X-ORIGINAL-URL:https://nostatic.com
X-WR-CALDESC:Events for nostatic
REFRESH-INTERVAL;VALUE=DURATION:PT1H
X-Robots-Tag:noindex
X-PUBLISHED-TTL:PT1H
BEGIN:VTIMEZONE
TZID:America/Los_Angeles
BEGIN:DAYLIGHT
TZOFFSETFROM:-0800
TZOFFSETTO:-0700
TZNAME:PDT
DTSTART:20140309T100000
END:DAYLIGHT
BEGIN:STANDARD
TZOFFSETFROM:-0700
TZOFFSETTO:-0800
TZNAME:PST
DTSTART:20141102T090000
END:STANDARD
BEGIN:DAYLIGHT
TZOFFSETFROM:-0800
TZOFFSETTO:-0700
TZNAME:PDT
DTSTART:20150308T100000
END:DAYLIGHT
BEGIN:STANDARD
TZOFFSETFROM:-0700
TZOFFSETTO:-0800
TZNAME:PST
DTSTART:20151101T090000
END:STANDARD
BEGIN:DAYLIGHT
TZOFFSETFROM:-0800
TZOFFSETTO:-0700
TZNAME:PDT
DTSTART:20160313T100000
END:DAYLIGHT
BEGIN:STANDARD
TZOFFSETFROM:-0700
TZOFFSETTO:-0800
TZNAME:PST
DTSTART:20161106T090000
END:STANDARD
BEGIN:DAYLIGHT
TZOFFSETFROM:-0800
TZOFFSETTO:-0700
TZNAME:PDT
DTSTART:20170312T100000
END:DAYLIGHT
BEGIN:STANDARD
TZOFFSETFROM:-0700
TZOFFSETTO:-0800
TZNAME:PST
DTSTART:20171105T090000
END:STANDARD
END:VTIMEZONE
BEGIN:VEVENT
DTSTART;TZID=America/Los_Angeles:20160312T130000
DTEND;TZID=America/Los_Angeles:20160312T150000
DTSTAMP:20260422T155627
CREATED:20160204T174223Z
LAST-MODIFIED:20160204T174223Z
UID:806-1457787600-1457794800@nostatic.com
SUMMARY:todd @ SxSW
DESCRIPTION:digital health
URL:https://nostatic.com/event/todd-sxsw/
LOCATION:SxSW\, Austin\, TX\, United States
END:VEVENT
BEGIN:VEVENT
DTSTART;TZID=America/Los_Angeles:20160310T190000
DTEND;TZID=America/Los_Angeles:20160310T213000
DTSTAMP:20260422T155627
CREATED:20160204T175015Z
LAST-MODIFIED:20160218T222131Z
UID:808-1457636400-1457645400@nostatic.com
SUMMARY:RCJQ @ Panini Grill
DESCRIPTION:
URL:https://nostatic.com/event/rcjq-panini-grill-2/
LOCATION:Panini Grill\, 4251 Glencoe Ave\, Marina del Rey\, CA\, United States
END:VEVENT
BEGIN:VEVENT
DTSTART;TZID=America/Los_Angeles:20160309T203000
DTEND;TZID=America/Los_Angeles:20160309T220000
DTSTAMP:20260422T155627
CREATED:20160126T002555Z
LAST-MODIFIED:20160126T002555Z
UID:796-1457555400-1457560800@nostatic.com
SUMMARY:nostatic @ TRiP
DESCRIPTION:
URL:https://nostatic.com/event/nostatic-trip-15/
LOCATION:TRiP\, 2102 Lincoln Bl\, Santa Monica\, CA\, United States
END:VEVENT
BEGIN:VEVENT
DTSTART;TZID=America/Los_Angeles:20160305T170000
DTEND;TZID=America/Los_Angeles:20160305T210000
DTSTAMP:20260422T155627
CREATED:20160204T174333Z
LAST-MODIFIED:20160204T174341Z
UID:807-1457197200-1457211600@nostatic.com
SUMMARY:RCJQ @ St. Anastasia Ball
DESCRIPTION:
URL:https://nostatic.com/event/st-anastasia-ball/
LOCATION:LAX Marriott\, Los Angeles\, CA\, United States
END:VEVENT
BEGIN:VEVENT
DTSTART;TZID=America/Los_Angeles:20160223T193000
DTEND;TZID=America/Los_Angeles:20160223T220000
DTSTAMP:20260422T155627
CREATED:20160126T002415Z
LAST-MODIFIED:20160126T002415Z
UID:795-1456255800-1456264800@nostatic.com
SUMMARY:west LA jazz players meet up
DESCRIPTION:
URL:https://nostatic.com/event/west-la-jazz-players-meet-up/
LOCATION:Holy Nativity Episcopal Church\, 6700 West 83rd\, Westchester\, CA\, United States
END:VEVENT
BEGIN:VEVENT
DTSTART;TZID=America/Los_Angeles:20160221T180000
DTEND;TZID=America/Los_Angeles:20160221T210000
DTSTAMP:20260422T155627
CREATED:20160218T222048Z
LAST-MODIFIED:20160218T222048Z
UID:812-1456077600-1456088400@nostatic.com
SUMMARY:Roberto Cordero Quartet @ Del Rey Yacht Club
DESCRIPTION:
URL:https://nostatic.com/event/roberto-cordero-quartet-del-rey-yacht-club/
LOCATION:Del Rey Yacht Club\, Palwan dr\, Marina del Rey\, CA\, United States
END:VEVENT
BEGIN:VEVENT
DTSTART;TZID=America/Los_Angeles:20160220T210000
DTEND;TZID=America/Los_Angeles:20160220T233000
DTSTAMP:20260422T155627
CREATED:20160204T173842Z
LAST-MODIFIED:20160204T173842Z
UID:805-1456002000-1456011000@nostatic.com
SUMMARY:steely jam @ Typhoon
DESCRIPTION:
URL:https://nostatic.com/event/steely-jam-typhoon-4/
LOCATION:Typhoon\, 3221 Donald Douglas Loop\, Santa monica\, CA\, United States
END:VEVENT
BEGIN:VEVENT
DTSTART;TZID=America/Los_Angeles:20160216T200000
DTEND;TZID=America/Los_Angeles:20160216T210000
DTSTAMP:20260422T155627
CREATED:20160117T025237Z
LAST-MODIFIED:20160117T025237Z
UID:782-1455652800-1455656400@nostatic.com
SUMMARY:blue noise kitchen @ TRiP
DESCRIPTION:
URL:https://nostatic.com/event/blue-noise-kitchen-trip-6/
LOCATION:TRiP\, 2102 Lincoln Bl\, Santa Monica\, CA\, United States
END:VEVENT
BEGIN:VEVENT
DTSTART;TZID=America/Los_Angeles:20160214T190000
DTEND;TZID=America/Los_Angeles:20160214T213000
DTSTAMP:20260422T155627
CREATED:20160109T015149Z
LAST-MODIFIED:20160122T184750Z
UID:776-1455476400-1455485400@nostatic.com
SUMMARY:Roberto Cordero Quartet @ Panini
DESCRIPTION:
URL:https://nostatic.com/event/roberto-cordero-quartet-panini-10/
LOCATION:Panini Grill\, 4251 Glencoe Ave\, Marina del Rey\, CA\, United States
END:VEVENT
BEGIN:VEVENT
DTSTART;TZID=America/Los_Angeles:20160214T100000
DTEND;TZID=America/Los_Angeles:20160214T130000
DTSTAMP:20260422T155627
CREATED:20160117T025358Z
LAST-MODIFIED:20160117T025358Z
UID:783-1455444000-1455454800@nostatic.com
SUMMARY:nostatic @ Santa Monica Farmer's Market
DESCRIPTION:
URL:https://nostatic.com/event/nostatic-santa-monica-farmers-market-2/
LOCATION:Santa Monica Farmers Market\, Main and Ocean Park\, Santa Monica\, CA\, United States
END:VEVENT
BEGIN:VEVENT
DTSTART;TZID=America/Los_Angeles:20160213T190000
DTEND;TZID=America/Los_Angeles:20160213T220000
DTSTAMP:20260422T155627
CREATED:20160122T184832Z
LAST-MODIFIED:20160122T184832Z
UID:785-1455390000-1455400800@nostatic.com
SUMMARY:Roberto Cordero Quartet @ private party
DESCRIPTION:
URL:https://nostatic.com/event/roberto-cordero-quartet-private-party/
LOCATION:TX
END:VEVENT
BEGIN:VEVENT
DTSTART;TZID=America/Los_Angeles:20160210T203000
DTEND;TZID=America/Los_Angeles:20160210T220000
DTSTAMP:20260422T155627
CREATED:20151214T192324Z
LAST-MODIFIED:20151214T192324Z
UID:720-1455136200-1455141600@nostatic.com
SUMMARY:nostatic @ TRiP
DESCRIPTION:
URL:https://nostatic.com/event/nostatic-trip-14/
LOCATION:TRiP\, 2102 Lincoln Bl\, Santa Monica\, CA\, United States
END:VEVENT
BEGIN:VEVENT
DTSTART;TZID=America/Los_Angeles:20160202T193000
DTEND;TZID=America/Los_Angeles:20160202T220000
DTSTAMP:20260422T155627
CREATED:20160109T015246Z
LAST-MODIFIED:20160202T004101Z
UID:777-1454441400-1454450400@nostatic.com
SUMMARY:west LA jazz players meetup
DESCRIPTION:
URL:https://nostatic.com/event/west-la-jazz-players-society-17/
LOCATION:Holy Nativity Episcopal Church\, 6700 West 83rd\, Westchester\, CA\, United States
END:VEVENT
BEGIN:VEVENT
DTSTART;TZID=America/Los_Angeles:20160128T190000
DTEND;TZID=America/Los_Angeles:20160128T213000
DTSTAMP:20260422T155627
CREATED:20151214T192215Z
LAST-MODIFIED:20151214T192215Z
UID:718-1454007600-1454016600@nostatic.com
SUMMARY:Roberto Cordero Jazz Quartet @ Panini
DESCRIPTION:
URL:https://nostatic.com/event/roberto-cordero-jazz-quartet-panini-3/
LOCATION:Panini Grill\, 4251 Glencoe Ave\, Marina del Rey\, CA\, United States
END:VEVENT
BEGIN:VEVENT
DTSTART;TZID=America/Los_Angeles:20160124T100000
DTEND;TZID=America/Los_Angeles:20160124T170000
DTSTAMP:20260422T155627
CREATED:20151214T192023Z
LAST-MODIFIED:20160109T014953Z
UID:715-1453629600-1453654800@nostatic.com
SUMMARY:todd@NAMM
DESCRIPTION:National Association of Music Merchandisers annual show – with Audio Plus Labs
URL:https://nostatic.com/event/toddnamm/
LOCATION:Anaheim Convention Center\, Anaheim\, CA\, United States
END:VEVENT
BEGIN:VEVENT
DTSTART;TZID=America/Los_Angeles:20160122T193000
DTEND;TZID=America/Los_Angeles:20160122T220000
DTSTAMP:20260422T155627
CREATED:20160109T014852Z
LAST-MODIFIED:20160109T014852Z
UID:775-1453491000-1453500000@nostatic.com
SUMMARY:Roberto Cordero Quintet @ DRYC
DESCRIPTION:
URL:https://nostatic.com/event/roberto-cordero-quintet-dryc-3/
LOCATION:Del Rey Yacht Club\, Palwan dr\, Marina del Rey\, CA\, United States
END:VEVENT
BEGIN:VEVENT
DTSTART;TZID=America/Los_Angeles:20160120T190000
DTEND;TZID=America/Los_Angeles:20160120T220000
DTSTAMP:20260422T155627
CREATED:20151214T192411Z
LAST-MODIFIED:20151214T192433Z
UID:721-1453316400-1453327200@nostatic.com
SUMMARY:LA True Crime @ Three Clubs
DESCRIPTION:
URL:https://nostatic.com/event/la-true-crime-three-clubs/
LOCATION:Three  Clubs\, 1123 Vine St\, Los Angeles\, CA\, 90038\, United States
END:VEVENT
BEGIN:VEVENT
DTSTART;TZID=America/Los_Angeles:20160119T193000
DTEND;TZID=America/Los_Angeles:20160119T220000
DTSTAMP:20260422T155627
CREATED:20160109T014821Z
LAST-MODIFIED:20160109T014821Z
UID:774-1453231800-1453240800@nostatic.com
SUMMARY:west LA jazz players society
DESCRIPTION:
URL:https://nostatic.com/event/west-la-jazz-players-society-16/
LOCATION:Holy Nativity Episcopal Church\, 6700 West 83rd\, Westchester\, CA\, United States
END:VEVENT
BEGIN:VEVENT
DTSTART;TZID=America/Los_Angeles:20160113T203000
DTEND;TZID=America/Los_Angeles:20160113T220000
DTSTAMP:20260422T155627
CREATED:20151115T182357Z
LAST-MODIFIED:20160109T014323Z
UID:531-1452717000-1452722400@nostatic.com
SUMMARY:nostatic @ TRiP
DESCRIPTION:
URL:https://nostatic.com/event/nostatic-trip-13/
LOCATION:TRiP\, 2102 Lincoln Bl\, Santa Monica\, CA\, United States
END:VEVENT
BEGIN:VEVENT
DTSTART;TZID=America/Los_Angeles:20160112T200000
DTEND;TZID=America/Los_Angeles:20160112T210000
DTSTAMP:20260422T155627
CREATED:20151214T191802Z
LAST-MODIFIED:20160109T014522Z
UID:712-1452628800-1452632400@nostatic.com
SUMMARY:Blue Noise Kitchen @ TRiP
DESCRIPTION:no cover
URL:https://nostatic.com/event/blue-noise-kitchen-trip-5/
LOCATION:TRiP\, 2102 Lincoln Bl\, Santa Monica\, CA\, United States
END:VEVENT
BEGIN:VEVENT
DTSTART;TZID=America/Los_Angeles:20160107T190000
DTEND;TZID=America/Los_Angeles:20160107T213000
DTSTAMP:20260422T155627
CREATED:20151214T192139Z
LAST-MODIFIED:20151214T192139Z
UID:717-1452193200-1452202200@nostatic.com
SUMMARY:Roberto Cordero Jazz Quartet @ Panini
DESCRIPTION:
URL:https://nostatic.com/event/roberto-cordero-jazz-quartet-panini-2/
LOCATION:Panini Grill\, 4251 Glencoe Ave\, Marina del Rey\, CA\, United States
END:VEVENT
BEGIN:VEVENT
DTSTART;TZID=America/Los_Angeles:20160105T080000
DTEND;TZID=America/Los_Angeles:20160106T170000
DTSTAMP:20260422T155627
CREATED:20151214T191919Z
LAST-MODIFIED:20151214T191919Z
UID:713-1451980800-1452099600@nostatic.com
SUMMARY:todd @ CES
DESCRIPTION:Will be in the IEEE booth talking tech and doing press.
URL:https://nostatic.com/event/todd-ces/
LOCATION:Consumer Electronics Show\, Las Vegas\, NV\, United States
END:VEVENT
BEGIN:VEVENT
DTSTART;TZID=America/Los_Angeles:20151231T210000
DTEND;TZID=America/Los_Angeles:20151231T235500
DTSTAMP:20260422T155627
CREATED:20151117T070326Z
LAST-MODIFIED:20151117T070326Z
UID:607-1451595600-1451606100@nostatic.com
SUMMARY:Steely Jam @ Typhoon NYE
DESCRIPTION:
URL:https://nostatic.com/event/steely-jam-typhoon-nye/
LOCATION:Typhoon\, 3221 Donald Douglas Loop\, Santa monica\, CA\, United States
END:VEVENT
BEGIN:VEVENT
DTSTART;TZID=America/Los_Angeles:20151219T190000
DTEND;TZID=America/Los_Angeles:20151219T220000
DTSTAMP:20260422T155627
CREATED:20151214T192255Z
LAST-MODIFIED:20151214T192255Z
UID:719-1450551600-1450562400@nostatic.com
SUMMARY:Roberto Cordero Jazz Quartet @ private party
DESCRIPTION:
URL:https://nostatic.com/event/roberto-cordero-jazz-quartet-private-party/
LOCATION:private party
END:VEVENT
BEGIN:VEVENT
DTSTART;TZID=America/Los_Angeles:20151217T190000
DTEND;TZID=America/Los_Angeles:20151217T223000
DTSTAMP:20260422T155627
CREATED:20151115T182310Z
LAST-MODIFIED:20151115T182316Z
UID:530-1450378800-1450391400@nostatic.com
SUMMARY:RC quartet @ Panini - xmas show
DESCRIPTION:
URL:https://nostatic.com/event/rc-quartet-panini-xmas-show/
LOCATION:Panini Grill\, 4251 Glencoe Ave\, Marina del Rey\, CA\, United States
END:VEVENT
BEGIN:VEVENT
DTSTART;TZID=America/Los_Angeles:20151209T203000
DTEND;TZID=America/Los_Angeles:20151209T220000
DTSTAMP:20260422T155627
CREATED:20151026T174017Z
LAST-MODIFIED:20151205T065655Z
UID:523-1449693000-1449698400@nostatic.com
SUMMARY:nostatic @ TRiP
DESCRIPTION:
URL:https://nostatic.com/event/nostatic-trip-12/
LOCATION:TRiP\, 2102 Lincoln Bl\, Santa Monica\, CA\, United States
ATTACH;FMTTYPE=image/jpeg:https://nostatic.com/wp-content/uploads/2015/10/9dec15.jpg
END:VEVENT
BEGIN:VEVENT
DTSTART;TZID=America/Los_Angeles:20151114T210000
DTEND;TZID=America/Los_Angeles:20151114T235500
DTSTAMP:20260422T155627
CREATED:20151010T050926Z
LAST-MODIFIED:20151010T050953Z
UID:501-1447534800-1447545300@nostatic.com
SUMMARY:Steely Jam @ Typhoon
DESCRIPTION:
URL:https://nostatic.com/event/steely-jam-typhoon-3/
LOCATION:Typhoon\, 3221 Donald Douglas Loop\, Santa monica\, CA\, United States
ATTACH;FMTTYPE=image/jpeg:https://nostatic.com/wp-content/uploads/2015/10/sm_14nov15V2.jpg
END:VEVENT
BEGIN:VEVENT
DTSTART;TZID=America/Los_Angeles:20151113T200000
DTEND;TZID=America/Los_Angeles:20151113T230000
DTSTAMP:20260422T155627
CREATED:20151026T173755Z
LAST-MODIFIED:20151026T173755Z
UID:520-1447444800-1447455600@nostatic.com
SUMMARY:Live Band Karaoke @ Three Clubs
DESCRIPTION:
URL:https://nostatic.com/event/live-band-karaoke-three-clubs/
LOCATION:Three  Clubs\, 1123 Vine St\, Los Angeles\, CA\, 90038\, United States
END:VEVENT
BEGIN:VEVENT
DTSTART;TZID=America/Los_Angeles:20151112T190000
DTEND;TZID=America/Los_Angeles:20151112T213000
DTSTAMP:20260422T155627
CREATED:20151010T050632Z
LAST-MODIFIED:20151026T174036Z
UID:497-1447354800-1447363800@nostatic.com
SUMMARY:Roberto Cordero Trio @ Panini
DESCRIPTION:
URL:https://nostatic.com/event/roberto-cordero-quartet-panini-9/
LOCATION:Panini Grill\, 4251 Glencoe Ave\, Marina del Rey\, CA\, United States
END:VEVENT
BEGIN:VEVENT
DTSTART;TZID=America/Los_Angeles:20151111T203000
DTEND;TZID=America/Los_Angeles:20151111T220000
DTSTAMP:20260422T155627
CREATED:20151010T050749Z
LAST-MODIFIED:20151110T055927Z
UID:499-1447273800-1447279200@nostatic.com
SUMMARY:nostatic @ TRiP
DESCRIPTION:
URL:https://nostatic.com/event/nostatic-trip-11/
LOCATION:TRiP\, 2102 Lincoln Bl\, Santa Monica\, CA\, United States
ATTACH;FMTTYPE=image/jpeg:https://nostatic.com/wp-content/uploads/2015/10/11nov15.jpg
END:VEVENT
END:VCALENDAR