BEGIN:VCALENDAR
VERSION:2.0
PRODID:-//nostatic - ECPv6.15.19//NONSGML v1.0//EN
CALSCALE:GREGORIAN
METHOD:PUBLISH
X-WR-CALNAME:nostatic
X-ORIGINAL-URL:https://nostatic.com
X-WR-CALDESC:Events for nostatic
REFRESH-INTERVAL;VALUE=DURATION:PT1H
X-Robots-Tag:noindex
X-PUBLISHED-TTL:PT1H
BEGIN:VTIMEZONE
TZID:America/Los_Angeles
BEGIN:DAYLIGHT
TZOFFSETFROM:-0800
TZOFFSETTO:-0700
TZNAME:PDT
DTSTART:20170312T100000
END:DAYLIGHT
BEGIN:STANDARD
TZOFFSETFROM:-0700
TZOFFSETTO:-0800
TZNAME:PST
DTSTART:20171105T090000
END:STANDARD
BEGIN:DAYLIGHT
TZOFFSETFROM:-0800
TZOFFSETTO:-0700
TZNAME:PDT
DTSTART:20180311T100000
END:DAYLIGHT
BEGIN:STANDARD
TZOFFSETFROM:-0700
TZOFFSETTO:-0800
TZNAME:PST
DTSTART:20181104T090000
END:STANDARD
BEGIN:DAYLIGHT
TZOFFSETFROM:-0800
TZOFFSETTO:-0700
TZNAME:PDT
DTSTART:20190310T100000
END:DAYLIGHT
BEGIN:STANDARD
TZOFFSETFROM:-0700
TZOFFSETTO:-0800
TZNAME:PST
DTSTART:20191103T090000
END:STANDARD
BEGIN:DAYLIGHT
TZOFFSETFROM:-0800
TZOFFSETTO:-0700
TZNAME:PDT
DTSTART:20200308T100000
END:DAYLIGHT
BEGIN:STANDARD
TZOFFSETFROM:-0700
TZOFFSETTO:-0800
TZNAME:PST
DTSTART:20201101T090000
END:STANDARD
END:VTIMEZONE
BEGIN:VTIMEZONE
TZID:America/Los_Angeles
BEGIN:DAYLIGHT
TZOFFSETFROM:-0800
TZOFFSETTO:-0700
TZNAME:PDT
DTSTART:20180311T100000
END:DAYLIGHT
BEGIN:STANDARD
TZOFFSETFROM:-0700
TZOFFSETTO:-0800
TZNAME:PST
DTSTART:20181104T090000
END:STANDARD
BEGIN:DAYLIGHT
TZOFFSETFROM:-0800
TZOFFSETTO:-0700
TZNAME:PDT
DTSTART:20190310T100000
END:DAYLIGHT
BEGIN:STANDARD
TZOFFSETFROM:-0700
TZOFFSETTO:-0800
TZNAME:PST
DTSTART:20191103T090000
END:STANDARD
BEGIN:DAYLIGHT
TZOFFSETFROM:-0800
TZOFFSETTO:-0700
TZNAME:PDT
DTSTART:20200308T100000
END:DAYLIGHT
BEGIN:STANDARD
TZOFFSETFROM:-0700
TZOFFSETTO:-0800
TZNAME:PST
DTSTART:20201101T090000
END:STANDARD
END:VTIMEZONE
BEGIN:VEVENT
DTSTART;TZID=America/Los_Angeles:20190620T193000
DTEND;TZID=America/Los_Angeles:20190620T220000
DTSTAMP:20260420T175115
CREATED:20190322T205844Z
LAST-MODIFIED:20190510T171324Z
UID:1793-1561059000-1561068000@nostatic.com
SUMMARY:LA True Crime @ Three Clubs
DESCRIPTION:
URL:https://nostatic.com/event/la-true-crime-three-clubs-4/
LOCATION:Three  Clubs\, 1123 Vine St\, Los Angeles\, CA\, 90038\, United States
END:VEVENT
BEGIN:VEVENT
DTSTART;TZID=America/Los_Angeles:20190602T103000
DTEND;TZID=America/Los_Angeles:20190602T133000
DTSTAMP:20260420T175115
CREATED:20190525T054939Z
LAST-MODIFIED:20190525T054939Z
UID:1859-1559471400-1559482200@nostatic.com
SUMMARY:nostatic @ west LA Farmers Market
DESCRIPTION:
URL:https://nostatic.com/event/nostatic-west-la-farmers-market-27/
LOCATION:Santa Monica Farmers Market\, Main and Ocean Park\, Santa Monica\, CA\, United States
END:VEVENT
BEGIN:VEVENT
DTSTART;TZID=America/Los_Angeles:20190526T103000
DTEND;TZID=America/Los_Angeles:20190526T133000
DTSTAMP:20260420T175115
CREATED:20190319T170039Z
LAST-MODIFIED:20190319T170222Z
UID:1788-1558866600-1558877400@nostatic.com
SUMMARY:nostatic @ west LA Farmers Market
DESCRIPTION:
URL:https://nostatic.com/event/west-la-farmers-market/
LOCATION:West LA Farmer’s Market\, 11420 Santa Monica Bl\, Los Angeles\, 90025\, United States
END:VEVENT
BEGIN:VEVENT
DTSTART;TZID=America/Los_Angeles:20190525T190000
DTEND;TZID=America/Los_Angeles:20190525T220000
DTSTAMP:20260420T175115
CREATED:20190319T170157Z
LAST-MODIFIED:20190319T170157Z
UID:1790-1558810800-1558821600@nostatic.com
SUMMARY:RJQ @ Del Rey Yacht Club
DESCRIPTION:
URL:https://nostatic.com/event/rjq-del-rey-yacht-club-3/
LOCATION:Del Rey Yacht Club\, Palwan dr\, Marina del Rey\, CA\, United States
END:VEVENT
BEGIN:VEVENT
DTSTART;TZID=America/Los_Angeles:20190524T193000
DTEND;TZID=America/Los_Angeles:20190524T220000
DTSTAMP:20260420T175115
CREATED:20190309T184852Z
LAST-MODIFIED:20190426T181713Z
UID:1775-1558726200-1558735200@nostatic.com
SUMMARY:LA True Crime @ Three Clubs
DESCRIPTION:
URL:https://nostatic.com/event/la-true-crime-5/
LOCATION:Three  Clubs\, 1123 Vine St\, Los Angeles\, CA\, 90038\, United States
END:VEVENT
BEGIN:VEVENT
DTSTART;TZID=America/Los_Angeles:20190519T100000
DTEND;TZID=America/Los_Angeles:20190519T130000
DTSTAMP:20260420T175115
CREATED:20181114T011250Z
LAST-MODIFIED:20181114T011250Z
UID:1732-1558260000-1558270800@nostatic.com
SUMMARY:nostatic @ Santa Monica Farmers Market
DESCRIPTION:
URL:https://nostatic.com/event/nostatic-santa-monica-farmers-market-7/
LOCATION:Santa Monica Farmers Market\, Main and Ocean Park\, Santa Monica\, CA\, United States
END:VEVENT
BEGIN:VEVENT
DTSTART;TZID=America/Los_Angeles:20190427T200000
DTEND;TZID=America/Los_Angeles:20190427T230000
DTSTAMP:20260420T175115
CREATED:20190309T184736Z
LAST-MODIFIED:20190309T184736Z
UID:1771-1556395200-1556406000@nostatic.com
SUMMARY:Steely Jam @ The Moose
DESCRIPTION:
URL:https://nostatic.com/event/steely-jam-the-moose-2/
LOCATION:Santa Monica Moose Lodge\, 1600 Ocean Park Blvd\, santa monica\, CA\, 90405\, United States
END:VEVENT
BEGIN:VEVENT
DTSTART;TZID=America/Los_Angeles:20190420T193000
DTEND;TZID=America/Los_Angeles:20190420T220000
DTSTAMP:20260420T175115
CREATED:20190309T184704Z
LAST-MODIFIED:20190309T184704Z
UID:1769-1555788600-1555797600@nostatic.com
SUMMARY:LA True Crime
DESCRIPTION:
URL:https://nostatic.com/event/la-true-crime-4/
LOCATION:Three  Clubs\, 1123 Vine St\, Los Angeles\, CA\, 90038\, United States
END:VEVENT
BEGIN:VEVENT
DTSTART;TZID=America/Los_Angeles:20190327T193000
DTEND;TZID=America/Los_Angeles:20190327T220000
DTSTAMP:20260420T175115
CREATED:20190309T184612Z
LAST-MODIFIED:20190309T184612Z
UID:1767-1553715000-1553724000@nostatic.com
SUMMARY:LA True Crime
DESCRIPTION:
URL:https://nostatic.com/event/la-true-crime-3/
LOCATION:Three  Clubs\, 1123 Vine St\, Los Angeles\, CA\, 90038\, United States
END:VEVENT
BEGIN:VEVENT
DTSTART;TZID=America/Los_Angeles:20190317T103000
DTEND;TZID=America/Los_Angeles:20190317T133000
DTSTAMP:20260420T175115
CREATED:20190203T021514Z
LAST-MODIFIED:20190203T021514Z
UID:1756-1552818600-1552829400@nostatic.com
SUMMARY:nostatic @ west LA Farmers Market
DESCRIPTION:
URL:https://nostatic.com/event/nostatic-west-la-farmers-market-26/
LOCATION:CA
END:VEVENT
BEGIN:VEVENT
DTSTART;TZID=America/Los_Angeles:20190312T193000
DTEND;TZID=America/Los_Angeles:20190312T220000
DTSTAMP:20260420T175115
CREATED:20190309T184806Z
LAST-MODIFIED:20190309T184806Z
UID:1773-1552419000-1552428000@nostatic.com
SUMMARY:west LA Jazz Players Meetup
DESCRIPTION:
URL:https://nostatic.com/event/west-la-jazz-players-meetup-2/
LOCATION:Holy Nativity Episcopal Church\, 6700 West 83rd\, Westchester\, CA\, United States
END:VEVENT
BEGIN:VEVENT
DTSTART;TZID=America/Los_Angeles:20190302T190000
DTEND;TZID=America/Los_Angeles:20190302T200000
DTSTAMP:20260420T175115
CREATED:20190203T021617Z
LAST-MODIFIED:20190203T021617Z
UID:1758-1551553200-1551556800@nostatic.com
SUMMARY:Steely Jam @ Canyon Club
DESCRIPTION:
URL:https://nostatic.com/event/steely-jam-canyon-club/
LOCATION:CA
END:VEVENT
BEGIN:VEVENT
DTSTART;TZID=America/Los_Angeles:20190223T200000
DTEND;TZID=America/Los_Angeles:20190223T230000
DTSTAMP:20260420T175115
CREATED:20181226T195953Z
LAST-MODIFIED:20181226T195953Z
UID:1750-1550952000-1550962800@nostatic.com
SUMMARY:Steely Jam @ Santa Monica Moose Lodge
DESCRIPTION:
URL:https://nostatic.com/event/steely-jam-santa-monica-moose-lodge-8/
LOCATION:Santa Monica Moose Lodge\, 1600 Ocean Park Blvd\, santa monica\, CA\, 90405\, United States
END:VEVENT
BEGIN:VEVENT
DTSTART;TZID=America/Los_Angeles:20190127T103000
DTEND;TZID=America/Los_Angeles:20190127T133000
DTSTAMP:20260420T175115
CREATED:20181226T195805Z
LAST-MODIFIED:20181226T195805Z
UID:1748-1548585000-1548595800@nostatic.com
SUMMARY:nostatic @ west LA Farmers Market
DESCRIPTION:
URL:https://nostatic.com/event/nostatic-west-la-farmers-market-24/
LOCATION:West LA Farmer’s Market\, 11420 Santa Monica Bl\, Los Angeles\, 90025\, United States
END:VEVENT
BEGIN:VEVENT
DTSTART;TZID=America/Los_Angeles:20181223T103000
DTEND;TZID=America/Los_Angeles:20181223T133000
DTSTAMP:20260420T175115
CREATED:20181114T011204Z
LAST-MODIFIED:20181114T011204Z
UID:1730-1545561000-1545571800@nostatic.com
SUMMARY:nostatic @ west LA Farmers Market
DESCRIPTION:
URL:https://nostatic.com/event/nostatic-west-la-farmers-market-25/
LOCATION:West LA Farmer’s Market\, 11420 Santa Monica Bl\, Los Angeles\, 90025\, United States
END:VEVENT
BEGIN:VEVENT
DTSTART;TZID=America/Los_Angeles:20181222T200000
DTEND;TZID=America/Los_Angeles:20181222T230000
DTSTAMP:20260420T175115
CREATED:20180803T164722Z
LAST-MODIFIED:20181030T223456Z
UID:1677-1545508800-1545519600@nostatic.com
SUMMARY:Steely Jam @ Santa Monica Moose Lodge
DESCRIPTION:
URL:https://nostatic.com/event/steely-jam-santa-monica-moose-lodge-7/
LOCATION:Santa Monica Moose Lodge\, 1600 Ocean Park Blvd\, santa monica\, CA\, 90405\, United States
END:VEVENT
BEGIN:VEVENT
DTSTART;TZID=America/Los_Angeles:20181118T103000
DTEND;TZID=America/Los_Angeles:20181118T133000
DTSTAMP:20260420T175115
CREATED:20181001T165158Z
LAST-MODIFIED:20181001T165158Z
UID:1714-1542537000-1542547800@nostatic.com
SUMMARY:nostatic @ west LA Farmers Market
DESCRIPTION:
URL:https://nostatic.com/event/nostatic-west-la-farmers-market-23/
LOCATION:West LA Farmer’s Market\, 11420 Santa Monica Bl\, Los Angeles\, 90025\, United States
END:VEVENT
BEGIN:VEVENT
DTSTART;TZID=America/Los_Angeles:20181115T180000
DTEND;TZID=America/Los_Angeles:20181115T210000
DTSTAMP:20260420T175115
CREATED:20180903T160234Z
LAST-MODIFIED:20180903T160234Z
UID:1707-1542304800-1542315600@nostatic.com
SUMMARY:Orbital Redux
DESCRIPTION:
URL:https://nostatic.com/event/orbital-redux-8/
LOCATION:CA
END:VEVENT
BEGIN:VEVENT
DTSTART;TZID=America/Los_Angeles:20181114T190000
DTEND;TZID=America/Los_Angeles:20181114T220000
DTSTAMP:20260420T175115
CREATED:20181005T191904Z
LAST-MODIFIED:20181005T191904Z
UID:1720-1542222000-1542232800@nostatic.com
SUMMARY:True Crime 8 @ Three Clubs
DESCRIPTION:
URL:https://nostatic.com/event/true-crime-8-three-clubs/
LOCATION:Three  Clubs\, 1123 Vine St\, Los Angeles\, CA\, 90038\, United States
END:VEVENT
BEGIN:VEVENT
DTSTART;TZID=America/Los_Angeles:20181108T180000
DTEND;TZID=America/Los_Angeles:20181108T210000
DTSTAMP:20260420T175115
CREATED:20180903T160123Z
LAST-MODIFIED:20180903T160123Z
UID:1705-1541700000-1541710800@nostatic.com
SUMMARY:Orbital Redux
DESCRIPTION:
URL:https://nostatic.com/event/orbital-redux-7/
LOCATION:CA
END:VEVENT
BEGIN:VEVENT
DTSTART;TZID=America/Los_Angeles:20181101T180000
DTEND;TZID=America/Los_Angeles:20181101T210000
DTSTAMP:20260420T175115
CREATED:20180903T160057Z
LAST-MODIFIED:20180903T160057Z
UID:1703-1541095200-1541106000@nostatic.com
SUMMARY:Orbital Redux
DESCRIPTION:
URL:https://nostatic.com/event/orbital-redux-6/
LOCATION:CA
END:VEVENT
BEGIN:VEVENT
DTSTART;TZID=America/Los_Angeles:20181025T180000
DTEND;TZID=America/Los_Angeles:20181025T210000
DTSTAMP:20260420T175115
CREATED:20180903T160031Z
LAST-MODIFIED:20180903T160031Z
UID:1701-1540490400-1540501200@nostatic.com
SUMMARY:Orbital Redux
DESCRIPTION:
URL:https://nostatic.com/event/orbital-redux-5/
LOCATION:CA
END:VEVENT
BEGIN:VEVENT
DTSTART;TZID=America/Los_Angeles:20181018T180000
DTEND;TZID=America/Los_Angeles:20181018T210000
DTSTAMP:20260420T175115
CREATED:20180903T160005Z
LAST-MODIFIED:20180903T160005Z
UID:1699-1539885600-1539896400@nostatic.com
SUMMARY:Orbital Redux
DESCRIPTION:
URL:https://nostatic.com/event/orbital-redux-4/
LOCATION:CA
END:VEVENT
BEGIN:VEVENT
DTSTART;TZID=America/Los_Angeles:20181013T200000
DTEND;TZID=America/Los_Angeles:20181013T230000
DTSTAMP:20260420T175115
CREATED:20180729T172246Z
LAST-MODIFIED:20180729T172246Z
UID:1675-1539460800-1539471600@nostatic.com
SUMMARY:Steely Jam @ Santa Monica Moose Lodge
DESCRIPTION:
URL:https://nostatic.com/event/steely-jam-santa-monica-moose-lodge-6/
LOCATION:Santa Monica Moose Lodge\, 1600 Ocean Park Blvd\, santa monica\, CA\, 90405\, United States
END:VEVENT
BEGIN:VEVENT
DTSTART;TZID=America/Los_Angeles:20181011T180000
DTEND;TZID=America/Los_Angeles:20181011T210000
DTSTAMP:20260420T175115
CREATED:20180903T155938Z
LAST-MODIFIED:20180903T155938Z
UID:1697-1539280800-1539291600@nostatic.com
SUMMARY:Orbital Redux
DESCRIPTION:
URL:https://nostatic.com/event/orbital-redux-3/
LOCATION:CA
END:VEVENT
BEGIN:VEVENT
DTSTART;TZID=America/Los_Angeles:20181004T180000
DTEND;TZID=America/Los_Angeles:20181004T210000
DTSTAMP:20260420T175115
CREATED:20180903T155912Z
LAST-MODIFIED:20180903T155912Z
UID:1695-1538676000-1538686800@nostatic.com
SUMMARY:Orbital Redux
DESCRIPTION:
URL:https://nostatic.com/event/orbital-redux-2/
LOCATION:CA
END:VEVENT
BEGIN:VEVENT
DTSTART;TZID=America/Los_Angeles:20180930T100000
DTEND;TZID=America/Los_Angeles:20180930T130000
DTSTAMP:20260420T175115
CREATED:20180702T171107Z
LAST-MODIFIED:20180702T171107Z
UID:1658-1538301600-1538312400@nostatic.com
SUMMARY:nostatic @ Santa Monica Farmers Market
DESCRIPTION:
URL:https://nostatic.com/event/nostatic-santa-monica-farmers-market-6/
LOCATION:Santa Monica Farmers Market\, Main and Ocean Park\, Santa Monica\, CA\, United States
END:VEVENT
BEGIN:VEVENT
DTSTART;TZID=America/Los_Angeles:20180927T180000
DTEND;TZID=America/Los_Angeles:20180927T210000
DTSTAMP:20260420T175115
CREATED:20180903T155822Z
LAST-MODIFIED:20180903T155822Z
UID:1692-1538071200-1538082000@nostatic.com
SUMMARY:Orbital Redux
DESCRIPTION:
URL:https://nostatic.com/event/orbital-redux/
LOCATION:CA
END:VEVENT
BEGIN:VEVENT
DTSTART;TZID=America/Los_Angeles:20180907T220000
DTEND;TZID=America/Los_Angeles:20180907T230000
DTSTAMP:20260420T175115
CREATED:20180823T001854Z
LAST-MODIFIED:20180823T001854Z
UID:1687-1536357600-1536361200@nostatic.com
SUMMARY:Kizambo @ 3rd Street Promenade
DESCRIPTION:1212 3rd Street
URL:https://nostatic.com/event/kizambo-3rd-street-promenade/
LOCATION:CA
END:VEVENT
BEGIN:VEVENT
DTSTART;TZID=America/Los_Angeles:20180902T103000
DTEND;TZID=America/Los_Angeles:20180902T133000
DTSTAMP:20260420T175115
CREATED:20180729T172117Z
LAST-MODIFIED:20180729T172117Z
UID:1671-1535884200-1535895000@nostatic.com
SUMMARY:nostatic @ west LA Farmers Market
DESCRIPTION:
URL:https://nostatic.com/event/nostatic-west-la-farmers-market-22/
LOCATION:West LA Farmer’s Market\, 11420 Santa Monica Bl\, Los Angeles\, 90025\, United States
END:VEVENT
END:VCALENDAR